BEGIN:VCALENDAR
VERSION:2.0
PRODID:-//wp-events-plugin.com//7.2.3.1//EN
TZID:Europe/Berlin
X-WR-TIMEZONE:Europe/Berlin
BEGIN:VEVENT
UID:5741@worldcleanupday.de
DTSTART;TZID=Europe/Berlin:20240920T090000
DTEND;TZID=Europe/Berlin:20240920T120000
DTSTAMP:20240312T114551Z
URL:https://www.worldcleanupday.de/veranstaltungen/world-cleanup-day-berli
 n-4/
SUMMARY:World Cleanup Day (Berlin)
DESCRIPTION:Die Erzieher und Kinder räumen gemeinsam auf.\n\n&nbsp\;\n\n#w
 orldcleanupmachtschule #worldcleanupday2024
ATTACH;FMTTYPE=image/jpeg:https://www.worldcleanupday.de/wp-content/upload
 s/2023/12/2024_KITA_WCU_010.jpg
CATEGORIES:Schul-Cleanup,World Cleanup Day
LOCATION:Kita Sonnentropfen und die Umgebung\, An der Wuhlheide 232B\, Berl
 in\, Berlin\, 12459\, Berlin\, Deutschland
GEO:52.455619;13.552275
X-APPLE-STRUCTURED-LOCATION;VALUE=URI;X-ADDRESS=An der Wuhlheide 232B\, Ber
 lin\, Berlin\, 12459\, Berlin\, Deutschland;X-APPLE-RADIUS=100;X-TITLE=Kit
 a Sonnentropfen und die Umgebung:geo:52.455619,13.552275
END:VEVENT
BEGIN:VTIMEZONE
TZID:Europe/Berlin
X-LIC-LOCATION:Europe/Berlin
BEGIN:DAYLIGHT
DTSTART:20240331T030000
TZOFFSETFROM:+0100
TZOFFSETTO:+0200
TZNAME:CEST
END:DAYLIGHT
END:VTIMEZONE
END:VCALENDAR