BEGIN:VCALENDAR
VERSION:2.0
PRODID:-//wp-events-plugin.com//7.2.3.1//EN
TZID:Europe/Berlin
X-WR-TIMEZONE:Europe/Berlin
BEGIN:VEVENT
UID:5143@worldcleanupday.de
DTSTART;TZID=Europe/Berlin:20230916T100000
DTEND;TZID=Europe/Berlin:20230916T120000
DTSTAMP:20230905T144319Z
URL:https://www.worldcleanupday.de/veranstaltungen/world-cleanup-day-bayer
 n/
SUMMARY:World Cleanup Day (Bayern)
DESCRIPTION:Wir mache mit einer geschlossenen Gruppe in Erlangen sauber.\n\
 n#worldcleanupday #letsdoitgermany #Bayern #Erlangen #letsdoit
ATTACH;FMTTYPE=image/jpeg:https://www.worldcleanupday.de/wp-content/upload
 s/2022/09/2023_WCD_Bayern_02.jpg
CATEGORIES:World Cleanup Day
LOCATION:Handtuchwiese\, Spardorfer Str.\, Erlangen\, 91054\, Deutschland
GEO:49.604746;11.028071
X-APPLE-STRUCTURED-LOCATION;VALUE=URI;X-ADDRESS=Spardorfer Str.\, Erlangen\
 , 91054\, Deutschland;X-APPLE-RADIUS=100;X-TITLE=Handtuchwiese:geo:49.6047
 46,11.028071
END:VEVENT
BEGIN:VTIMEZONE
TZID:Europe/Berlin
X-LIC-LOCATION:Europe/Berlin
BEGIN:DAYLIGHT
DTSTART:20230326T030000
TZOFFSETFROM:+0100
TZOFFSETTO:+0200
TZNAME:CEST
END:DAYLIGHT
END:VTIMEZONE
END:VCALENDAR