BEGIN:VCALENDAR
VERSION:2.0
PRODID:-//wp-events-plugin.com//7.2.3.1//EN
TZID:Europe/Berlin
X-WR-TIMEZONE:Europe/Berlin
BEGIN:VEVENT
UID:5898@worldcleanupday.de
DTSTART;TZID=Europe/Berlin:20240920T090000
DTEND;TZID=Europe/Berlin:20240920T110000
DTSTAMP:20240321T095832Z
URL:https://www.worldcleanupday.de/veranstaltungen/wir-raeumen-rund-um-die
 -kita-auf-mecklenburg-vorpommern/
SUMMARY:Wir räumen rund um die Kita auf! (Mecklenburg-Vorpommern)
DESCRIPTION:Wir sind eine zertifizierte gesundheitsfördernde Kita und habe
 n das letzte Kita-Jahr unter das Thema Nachhaltigkeit gestellt. Dabei habe
 n wir mit den Kindern schon einmal so eine Aufräumaktion in unserem direk
 ten Umfeld gestartet. Das hat den Kindern viel Freude bereitet und sie kon
 nten viel lernen zu den Themen Müll und Mülltrennung\, Umweltverschmutzu
 ng und warum es so wichtig ist seine Umwelt sauber zu halten. Daher freuen
  wir uns sehr an dieser Aktion teilzunehmen.\n\nWorld Cleanup macht Schule
 . Wir sind dabei.\n\n&nbsp\;\n\n#worldcleanupmachtschule #worldcleanupday2
 024
ATTACH;FMTTYPE=image/jpeg:https://www.worldcleanupday.de/wp-content/upload
 s/2023/12/2024_KITA_WCU_006.jpg
CATEGORIES:Schul-Cleanup,World Cleanup Day
LOCATION:Kita Wiesenkinder\, An der Quöbbe 35\, Boizenburg\, Mecklenburg-V
 orpommern\, 19258\, Deutschland
GEO:53.374728;10.728621
X-APPLE-STRUCTURED-LOCATION;VALUE=URI;X-ADDRESS=An der Quöbbe 35\, Boizenb
 urg\, Mecklenburg-Vorpommern\, 19258\, Deutschland;X-APPLE-RADIUS=100;X-TI
 TLE=Kita Wiesenkinder:geo:53.374728,10.728621
END:VEVENT
BEGIN:VTIMEZONE
TZID:Europe/Berlin
X-LIC-LOCATION:Europe/Berlin
BEGIN:DAYLIGHT
DTSTART:20240331T030000
TZOFFSETFROM:+0100
TZOFFSETTO:+0200
TZNAME:CEST
END:DAYLIGHT
END:VTIMEZONE
END:VCALENDAR