BEGIN:VCALENDAR
VERSION:2.0
PRODID:-//wp-events-plugin.com//7.2.3.1//EN
TZID:Europe/Berlin
X-WR-TIMEZONE:Europe/Berlin
BEGIN:VEVENT
UID:2513@worldcleanupday.de
DTSTART;TZID=Europe/Berlin:20220916T100000
DTEND;TZID=Europe/Berlin:20220916T110000
DTSTAMP:20220627T194952Z
URL:https://www.worldcleanupday.de/veranstaltungen/wir-raeumen-in-unserer-
 heimat-auf-thueringen/
SUMMARY:Wir räumen in unserer Heimat auf (Thüringen)
DESCRIPTION:Die Staatliche Grundschule Sünna macht im Rahmen des World Cle
 anup Day 2022 mit und räumt die Heimat auf.\n\n&nbsp\;\n\n#worldcleanupda
 y #letsdoitgermany #deutschland #thueringen
ATTACH;FMTTYPE=image/jpeg:https://www.worldcleanupday.de/wp-content/upload
 s/2022/06/WCD_m_S-Influencer.jpg
LOCATION:Gemeinde Unterbreizbach\, Pferdsdorfer Straße 4\, Sünna\, Pferds
 dorf\, Räsa\, Unterbreizbach\, Thüringen\, 36414\, Wartburgkreis\, Deuts
 chland
GEO:50.799038;9.997341
X-APPLE-STRUCTURED-LOCATION;VALUE=URI;X-ADDRESS=Pferdsdorfer Straße 4\, S
 ünna\, Pferdsdorf\, Räsa\, Unterbreizbach\, Thüringen\, 36414\, Wartbur
 gkreis\, Deutschland;X-APPLE-RADIUS=100;X-TITLE=Gemeinde Unterbreizbach:ge
 o:50.799038,9.997341
END:VEVENT
BEGIN:VTIMEZONE
TZID:Europe/Berlin
X-LIC-LOCATION:Europe/Berlin
BEGIN:DAYLIGHT
DTSTART:20220327T030000
TZOFFSETFROM:+0100
TZOFFSETTO:+0200
TZNAME:CEST
END:DAYLIGHT
END:VTIMEZONE
END:VCALENDAR