BEGIN:VCALENDAR
VERSION:2.0
PRODID:-//wp-events-plugin.com//7.2.3.1//EN
TZID:Europe/Berlin
X-WR-TIMEZONE:Europe/Berlin
BEGIN:VEVENT
UID:2740@worldcleanupday.de
DTSTART;TZID=Europe/Berlin:20220917T103000
DTEND;TZID=Europe/Berlin:20220919T133000
DTSTAMP:20220809T120017Z
URL:https://www.worldcleanupday.de/veranstaltungen/wir-raeumen-in-alsdorf-
 auf-nordrhein-westfalen/
SUMMARY:Wir räumen in Alsdorf auf (Nordrhein-Westfalen)
DESCRIPTION:Wir\, die VITA Alsdorf machen im Rahmen des "World Cleanup Day"
  in einer kleinen Gruppe unsere nachbarschaftliche Umgebung sauber! Für d
 ie Umwelt und für eine schöne Nachbarschaft :-)\n\nUnsere Aufräumaktion
  startet am Montag\, den 19.09.2022 um 10:30 Uhr.\n\n&nbsp\;\n\n#worldclea
 nupday #letsdoitgermany #deutschland #nordrheinwestfalen
ATTACH;FMTTYPE=image/jpeg:https://www.worldcleanupday.de/wp-content/upload
 s/2022/06/2022_WCD_Bundesland_Nordrhein_Westfalen_02.jpg
LOCATION:Aufräumaktion in Alsdorf\, Broicher Str. 98 - 100\, Alsdorf\, Nor
 drhein-Westfalen\, 52477\, Deutschland
GEO:50.868826;6.159392
X-APPLE-STRUCTURED-LOCATION;VALUE=URI;X-ADDRESS=Broicher Str. 98 - 100\, Al
 sdorf\, Nordrhein-Westfalen\, 52477\, Deutschland;X-APPLE-RADIUS=100;X-TIT
 LE=Aufräumaktion in Alsdorf:geo:50.868826,6.159392
END:VEVENT
BEGIN:VTIMEZONE
TZID:Europe/Berlin
X-LIC-LOCATION:Europe/Berlin
BEGIN:DAYLIGHT
DTSTART:20220327T030000
TZOFFSETFROM:+0100
TZOFFSETTO:+0200
TZNAME:CEST
END:DAYLIGHT
END:VTIMEZONE
END:VCALENDAR