BEGIN:VCALENDAR
VERSION:2.0
PRODID:-//wp-events-plugin.com//7.2.3.1//EN
TZID:Europe/Berlin
X-WR-TIMEZONE:Europe/Berlin
BEGIN:VEVENT
UID:4376@worldcleanupday.de
DTSTART;TZID=Europe/Berlin:20230916T100000
DTEND;TZID=Europe/Berlin:20230916T140000
DTSTAMP:20230628T094746Z
URL:https://www.worldcleanupday.de/veranstaltungen/wir-raeumen-auf-prenzla
 uer-berg-berlin/
SUMMARY:Wir räumen auf - Prenzlauer Berg (Berlin)
DESCRIPTION:SMARTments räumt auf!\n\nZum World Cleanup Day 2023 werden wir
  gemeinsam das Gelände rund um unser Haus in der Storkower Str. 156a rein
 igen.\n\nWir treffen uns um 10:00 Uhr in der Lobby des SMARTments.\n\nMate
 rialien werden gestellt. Kleine Snacks und Getränke haben wir für alle M
 itstreiter parat.\n\nWICHTIG! Bitte unter der angegebenen Emailadresse bis
  spätestens 15.08.2023 anmelden\, damit wir rechtzeitig alle Materialien 
 inklusive T-Shirts in ausreichender Menge bestellen können.\n\nWir freuen
  uns auf eure Teilnahme!\n\nEuer SMARTments-Team\n\n&nbsp\;\n\n#worldclean
 upday #letsdoitgermany #deutschland #berlin
ATTACH;FMTTYPE=image/jpeg:https://www.worldcleanupday.de/wp-content/upload
 s/2023/06/SMB-PB-Outside.jpeg
CATEGORIES:World Cleanup Day
LOCATION:Berlin Prenzlauer Berg\, Storkower Str. 156a\, Berlin\, 10407\, De
 utschland
GEO:52.53018;13.454989
X-APPLE-STRUCTURED-LOCATION;VALUE=URI;X-ADDRESS=Storkower Str. 156a\, Berli
 n\, 10407\, Deutschland;X-APPLE-RADIUS=100;X-TITLE=Berlin Prenzlauer Berg:
 geo:52.53018,13.454989
END:VEVENT
BEGIN:VTIMEZONE
TZID:Europe/Berlin
X-LIC-LOCATION:Europe/Berlin
BEGIN:DAYLIGHT
DTSTART:20230326T030000
TZOFFSETFROM:+0100
TZOFFSETTO:+0200
TZNAME:CEST
END:DAYLIGHT
END:VTIMEZONE
END:VCALENDAR