BEGIN:VCALENDAR
VERSION:2.0
PRODID:-//wp-events-plugin.com//7.2.3.1//EN
TZID:Europe/Berlin
X-WR-TIMEZONE:Europe/Berlin
BEGIN:VEVENT
UID:2662@worldcleanupday.de
DTSTART;TZID=Europe/Berlin:20220917T090000
DTEND;TZID=Europe/Berlin:20220917T110000
DTSTAMP:20220811T194616Z
URL:https://www.worldcleanupday.de/veranstaltungen/wir-putzen-den-lech-bay
 ern/
SUMMARY:Wir putzen den Lech (Bayern)
DESCRIPTION:Die Müllsammler Augsburg  putzen den Lech am World Cleanup Da
 y - 17. September 2022.\n\nStart ist um 9:00 Uhr in Augsburg-Hochzoll \, A
 frabrücke(Haltestelle Linie 6)\n\nEnde um 11:00 Uhr am Hochablass.\n\n#wo
 rldcleanupday #letsdoitgermany #deutschland #bayern
ATTACH;FMTTYPE=image/jpeg:https://www.worldcleanupday.de/wp-content/upload
 s/2022/06/2022_WCD_Bundesland_Bayern_03.jpg
LOCATION:WCD Hochzoll\, Afrabrücke\, Augsburg\, Bayern\, 86163\, Deutschla
 nd
GEO:48.355085;10.937049
X-APPLE-STRUCTURED-LOCATION;VALUE=URI;X-ADDRESS=Afrabrücke\, Augsburg\, Ba
 yern\, 86163\, Deutschland;X-APPLE-RADIUS=100;X-TITLE=WCD Hochzoll:geo:48.
 355085,10.937049
END:VEVENT
BEGIN:VTIMEZONE
TZID:Europe/Berlin
X-LIC-LOCATION:Europe/Berlin
BEGIN:DAYLIGHT
DTSTART:20220327T030000
TZOFFSETFROM:+0100
TZOFFSETTO:+0200
TZNAME:CEST
END:DAYLIGHT
END:VTIMEZONE
END:VCALENDAR