BEGIN:VCALENDAR
VERSION:2.0
PRODID:-//wp-events-plugin.com//7.2.3.1//EN
TZID:Europe/Berlin
X-WR-TIMEZONE:Europe/Berlin
BEGIN:VEVENT
UID:2432@worldcleanupday.de
DTSTART;TZID=Europe/Berlin:20220916T074500
DTEND;TZID=Europe/Berlin:20220916T111500
DTSTAMP:20220620T072347Z
URL:https://www.worldcleanupday.de/veranstaltungen/wandern-fuer-eine-saube
 re-welt-sachsen/
SUMMARY:Wandern für eine saubere Welt! (Sachsen)
DESCRIPTION:Die vierten Klassen der Grundschule Neukirchen/Adorf krempeln d
 ie Ärmel hoch\, wandern und räumen in der Natur auf! World Cleanup Day 2
 022.\n\n&nbsp\;\n\n#worldcleanupday #letsdoitgermany #worldcleanupdaymacht
 schule #deutschland #sachsen
ATTACH;FMTTYPE=image/jpeg:https://www.worldcleanupday.de/wp-content/upload
 s/2022/06/WCD_m_S-3_Superhelden.jpg
LOCATION:Neukirchen/Adorf\, Grundschule Neukirchen - Schulteil Adorf\, Ador
 fer Hauptstraße 108\, Adorf\, Sachsen\, 09221\, Deutschland
GEO:50.784625;12.851573
X-APPLE-STRUCTURED-LOCATION;VALUE=URI;X-ADDRESS=Grundschule Neukirchen - Sc
 hulteil Adorf\, Adorfer Hauptstraße 108\, Adorf\, Sachsen\, 09221\, Deuts
 chland;X-APPLE-RADIUS=100;X-TITLE=Neukirchen/Adorf:geo:50.784625,12.851573
END:VEVENT
BEGIN:VTIMEZONE
TZID:Europe/Berlin
X-LIC-LOCATION:Europe/Berlin
BEGIN:DAYLIGHT
DTSTART:20220327T030000
TZOFFSETFROM:+0100
TZOFFSETTO:+0200
TZNAME:CEST
END:DAYLIGHT
END:VTIMEZONE
END:VCALENDAR