BEGIN:VCALENDAR
VERSION:2.0
PRODID:-//wp-events-plugin.com//7.2.3.1//EN
TZID:Europe/Berlin
X-WR-TIMEZONE:Europe/Berlin
BEGIN:VEVENT
UID:3881@worldcleanupday.de
DTSTART;TZID=Europe/Berlin:20230725T080000
DTEND;TZID=Europe/Berlin:20230725T120000
DTSTAMP:20230416T085919Z
URL:https://www.worldcleanupday.de/veranstaltungen/waldtag-baden-wuerttemb
 erg/
SUMMARY:Waldtag (Baden-Württemberg)
DESCRIPTION:World Cleanup macht Schule. Wir machen mit!\n\n&nbsp\;\n\n#worl
 dcleanupmachtschule #worldcleanupday
ATTACH;FMTTYPE=image/jpeg:https://www.worldcleanupday.de/wp-content/upload
 s/2023/03/2023_WCU_Schule-Influencer.png
CATEGORIES:Schul-Cleanup
LOCATION:Schwäbisch Gmünd Herlikofen\, Theodor Heuss Str.  5\, Schwäbisc
 h Gmünd\, Baden Württemberg \, 73527\, Ostwürttemberg \, Deutschland
GEO:48.816891;9.848693
X-APPLE-STRUCTURED-LOCATION;VALUE=URI;X-ADDRESS=Theodor Heuss Str.  5\, Sch
 wäbisch Gmünd\, Baden Württemberg \, 73527\, Ostwürttemberg \, Deutsch
 land;X-APPLE-RADIUS=100;X-TITLE=Schwäbisch Gmünd Herlikofen:geo:48.81689
 1,9.848693
END:VEVENT
BEGIN:VTIMEZONE
TZID:Europe/Berlin
X-LIC-LOCATION:Europe/Berlin
BEGIN:DAYLIGHT
DTSTART:20230326T030000
TZOFFSETFROM:+0100
TZOFFSETTO:+0200
TZNAME:CEST
END:DAYLIGHT
END:VTIMEZONE
END:VCALENDAR