BEGIN:VCALENDAR
VERSION:2.0
PRODID:-//wp-events-plugin.com//7.2.3.1//EN
TZID:Europe/Berlin
X-WR-TIMEZONE:Europe/Berlin
BEGIN:VEVENT
UID:3877@worldcleanupday.de
DTSTART;TZID=Europe/Berlin:20230916T000000
DTEND;TZID=Europe/Berlin:20230916T000000
DTSTAMP:20230413T081026Z
URL:https://www.worldcleanupday.de/veranstaltungen/vermeidbar-clean-up-nor
 dhrein-westfalen/
SUMMARY:Vermeidbar Clean Up (Nordhrein-Westfalen)
DESCRIPTION:Wir machen mit am World Cleanup Day - 16. September 2023.\n\n&n
 bsp\;\n\n#worldcleanupday #letsdoitgermany #onlyoneworld\n\n&nbsp\;
ATTACH;FMTTYPE=image/jpeg:https://www.worldcleanupday.de/wp-content/upload
 s/2022/09/2023_WCD_Nordrhein_Westfalen_04.jpg
CATEGORIES:World Cleanup Day
LOCATION:kostBAR-unverpackt\, Katharinenstr. 3\, Gescher\, Nordrhein-Westfa
 len\, 48712\, Westmünsterland\, Deutschland
GEO:51.956161;7.007395
X-APPLE-STRUCTURED-LOCATION;VALUE=URI;X-ADDRESS=Katharinenstr. 3\, Gescher\
 , Nordrhein-Westfalen\, 48712\, Westmünsterland\, Deutschland;X-APPLE-RAD
 IUS=100;X-TITLE=kostBAR-unverpackt:geo:51.956161,7.007395
END:VEVENT
BEGIN:VTIMEZONE
TZID:Europe/Berlin
X-LIC-LOCATION:Europe/Berlin
BEGIN:DAYLIGHT
DTSTART:20230326T030000
TZOFFSETFROM:+0100
TZOFFSETTO:+0200
TZNAME:CEST
END:DAYLIGHT
END:VTIMEZONE
END:VCALENDAR