BEGIN:VCALENDAR
VERSION:2.0
PRODID:-//wp-events-plugin.com//7.2.3.1//EN
TZID:Europe/Berlin
X-WR-TIMEZONE:Europe/Berlin
BEGIN:VEVENT
UID:2471@worldcleanupday.de
DTSTART;TZID=Europe/Berlin:20220920T080000
DTEND;TZID=Europe/Berlin:20220920T120000
DTSTAMP:20220623T104750Z
URL:https://www.worldcleanupday.de/veranstaltungen/umwelthelden-sgs-oechse
 n-thueringen/
SUMMARY:Umwelthelden SGS Oechsen (Thüringen)
DESCRIPTION:Die Kinder mit den Lehrern und Erziehern starten gegen 08:00 Uh
 r an der SGS Oechsen. Zwei Klassen gehen in Richtung Gehaus den Park mit d
 er schwarzen Oechse aufräumen. Die anderen zwei Klassen gehen auf den Fah
 rradweg in Richtung Emberg.\n\nWir sind dabei am World Cleanup Day 2022.\n
 \n&nbsp\;\n\n#worldcleanupday #letsdoitgermany #deutschland #thueringen
ATTACH;FMTTYPE=image/jpeg:https://www.worldcleanupday.de/wp-content/upload
 s/2022/06/WCD_m_S-Organisator.jpg
LOCATION:Oechsen\, Stadtlengsfelder Straße 94b\, 36404 Oechsen \, Thüring
 en\, 36404\, Wartburgkreis \, Deutschland
GEO:50.745919;10.066895
X-APPLE-STRUCTURED-LOCATION;VALUE=URI;X-ADDRESS=Stadtlengsfelder Straße 94
 b\, 36404 Oechsen \, Thüringen\, 36404\, Wartburgkreis \, Deutschland;X-A
 PPLE-RADIUS=100;X-TITLE=Oechsen:geo:50.745919,10.066895
END:VEVENT
BEGIN:VTIMEZONE
TZID:Europe/Berlin
X-LIC-LOCATION:Europe/Berlin
BEGIN:DAYLIGHT
DTSTART:20220327T030000
TZOFFSETFROM:+0100
TZOFFSETTO:+0200
TZNAME:CEST
END:DAYLIGHT
END:VTIMEZONE
END:VCALENDAR