BEGIN:VCALENDAR
VERSION:2.0
PRODID:-//wp-events-plugin.com//7.2.3.1//EN
TZID:Europe/Berlin
X-WR-TIMEZONE:Europe/Berlin
BEGIN:VEVENT
UID:8682@worldcleanupday.de
DTSTART;TZID=Europe/Berlin:20250920T140000
DTEND;TZID=Europe/Berlin:20250920T170000
DTSTAMP:20250724T175511Z
URL:https://www.worldcleanupday.de/veranstaltungen/trashmob-bayern/
SUMMARY:TrashMob (Bayern)
DESCRIPTION:Die Welt räumt auf. Wir machen mit!\n\n&nbsp\;\n\n#worldcleanu
 pday2025
ATTACH;FMTTYPE=image/jpeg:https://www.worldcleanupday.de/wp-content/upload
 s/2024/11/2025_WCD_Bayern_06.jpg
CATEGORIES:World Cleanup Day
LOCATION:Jugendzentrum Gersthofen\, Donauwörther Str. 31\, Gersthofen \, B
 ayern \, 86368\, Gersthofen\, Deutschland
GEO:48.42872;10.878429
X-APPLE-STRUCTURED-LOCATION;VALUE=URI;X-ADDRESS=Donauwörther Str. 31\, Ger
 sthofen \, Bayern \, 86368\, Gersthofen\, Deutschland;X-APPLE-RADIUS=100;X
 -TITLE=Jugendzentrum Gersthofen:geo:48.42872,10.878429
END:VEVENT
BEGIN:VTIMEZONE
TZID:Europe/Berlin
X-LIC-LOCATION:Europe/Berlin
BEGIN:DAYLIGHT
DTSTART:20250330T030000
TZOFFSETFROM:+0100
TZOFFSETTO:+0200
TZNAME:CEST
END:DAYLIGHT
END:VTIMEZONE
END:VCALENDAR