BEGIN:VCALENDAR
VERSION:2.0
PRODID:-//wp-events-plugin.com//7.2.3.1//EN
TZID:Europe/Berlin
X-WR-TIMEZONE:Europe/Berlin
BEGIN:VEVENT
UID:3572@worldcleanupday.de
DTSTART;TZID=Europe/Berlin:20220916T130000
DTEND;TZID=Europe/Berlin:20220916T170000
DTSTAMP:20220914T172803Z
URL:https://www.worldcleanupday.de/veranstaltungen/tiergarten-clean-up-ber
 lin/
SUMMARY:Tiergarten Clean Up (Berlin)
DESCRIPTION:Small actions\, big changes! Salesforce beteiligt sich im Rahme
 n des World Cleanup Day!  Organisationsbedingt findet unser Cleanup berei
 ts am 16.09. statt.\n\n#worldcleanupday #letsdoitgermany #deutschland #ber
 lin #salesforce #vto
ATTACH;FMTTYPE=image/jpeg:https://www.worldcleanupday.de/wp-content/upload
 s/2022/06/2022_WCD_Bundesland_Berlin_02-1.jpg
LOCATION:Cleanup Tiergarten\, Tiergarten - Gegenüber S-Bahn\, Berlin\, Ber
 lin\, Deutschland
GEO:52.514534;13.350102
X-APPLE-STRUCTURED-LOCATION;VALUE=URI;X-ADDRESS=Tiergarten - Gegenüber S-B
 ahn\, Berlin\, Berlin\, Deutschland;X-APPLE-RADIUS=100;X-TITLE=Cleanup Tie
 rgarten:geo:52.514534,13.350102
END:VEVENT
BEGIN:VTIMEZONE
TZID:Europe/Berlin
X-LIC-LOCATION:Europe/Berlin
BEGIN:DAYLIGHT
DTSTART:20220327T030000
TZOFFSETFROM:+0100
TZOFFSETTO:+0200
TZNAME:CEST
END:DAYLIGHT
END:VTIMEZONE
END:VCALENDAR