BEGIN:VCALENDAR
VERSION:2.0
PRODID:-//wp-events-plugin.com//7.2.3.1//EN
TZID:Europe/Berlin
X-WR-TIMEZONE:Europe/Berlin
BEGIN:VEVENT
UID:5639@worldcleanupday.de
DTSTART;TZID=Europe/Berlin;VALUE=DATE:20240201
DTEND;TZID=Europe/Berlin;VALUE=DATE:20240317
DTSTAMP:20240124T081624Z
URL:https://www.worldcleanupday.de/veranstaltungen/stadt-aschaffenburg-bay
 ern/
SUMMARY:Stadt Aschaffenburg (Bayern)
DESCRIPTION:Die Welt räumt auf. Aschaffenburg macht mit.\n\n&nbsp\;\n\n#wo
 rldcleanupday2024
ATTACH;FMTTYPE=image/jpeg:https://www.worldcleanupday.de/wp-content/upload
 s/2023/12/2024_WCD_Bayern_03.jpg
CATEGORIES:Kommunen-Cleanup
LOCATION:Stadt Aschaffenburg\, Dalbergstr. 15\, Aschaffenburg\, Bayern\, 63
 739 \, Deutschland
GEO:49.973306;9.145122
X-APPLE-STRUCTURED-LOCATION;VALUE=URI;X-ADDRESS=Dalbergstr. 15\, Aschaffenb
 urg\, Bayern\, 63739 \, Deutschland;X-APPLE-RADIUS=100;X-TITLE=Stadt Ascha
 ffenburg:geo:49.973306,9.145122
END:VEVENT
BEGIN:VTIMEZONE
TZID:Europe/Berlin
X-LIC-LOCATION:Europe/Berlin
BEGIN:STANDARD
DTSTART:20231029T020000
TZOFFSETFROM:+0200
TZOFFSETTO:+0100
TZNAME:CET
END:STANDARD
END:VTIMEZONE
END:VCALENDAR