BEGIN:VCALENDAR
VERSION:2.0
PRODID:-//wp-events-plugin.com//7.2.3.1//EN
TZID:Europe/Berlin
X-WR-TIMEZONE:Europe/Berlin
BEGIN:VEVENT
UID:5754@worldcleanupday.de
DTSTART;TZID=Europe/Berlin;VALUE=DATE:20240920
DTEND;TZID=Europe/Berlin;VALUE=DATE:20240921
DTSTAMP:20240312T121115Z
URL:https://www.worldcleanupday.de/veranstaltungen/schulumfeld-cleanup-ber
 lin/
SUMMARY:Schulumfeld-CleanUp (Berlin)
DESCRIPTION:Liebes Team\,\n\nwir haben Cleanteams für den Schulhof und wer
 den am CleanupDay das unmittelbare Umfeld mit einbeziehen.\n\n&nbsp\;\n\n#
 worldcleanupmachtschule #worldcleanupday2024\n\n&nbsp\;
ATTACH;FMTTYPE=image/jpeg:https://www.worldcleanupday.de/wp-content/upload
 s/2023/12/2024_WCU_Schule_016.jpg
CATEGORIES:Schul-Cleanup,World Cleanup Day
LOCATION:Schule am Tierpark\, Sewanstraße 223\, Berlin\, Berlin\, 10435\, 
 Deutschland
GEO:52.496686;13.515118
X-APPLE-STRUCTURED-LOCATION;VALUE=URI;X-ADDRESS=Sewanstraße 223\, Berlin\,
  Berlin\, 10435\, Deutschland;X-APPLE-RADIUS=100;X-TITLE=Schule am Tierpar
 k:geo:52.496686,13.515118
END:VEVENT
BEGIN:VTIMEZONE
TZID:Europe/Berlin
X-LIC-LOCATION:Europe/Berlin
BEGIN:DAYLIGHT
DTSTART:20240331T030000
TZOFFSETFROM:+0100
TZOFFSETTO:+0200
TZNAME:CEST
END:DAYLIGHT
END:VTIMEZONE
END:VCALENDAR