BEGIN:VCALENDAR
VERSION:2.0
PRODID:-//wp-events-plugin.com//7.2.3.1//EN
TZID:Europe/Berlin
X-WR-TIMEZONE:Europe/Berlin
BEGIN:VEVENT
UID:3876@worldcleanupday.de
DTSTART;TZID=Europe/Berlin:20230916T080000
DTEND;TZID=Europe/Berlin:20230916T120000
DTSTAMP:20230412T192532Z
URL:https://www.worldcleanupday.de/veranstaltungen/schozach-putze-baden-wu
 erttemberg/
SUMMARY:Schozach Putze (Baden-Württemberg)
DESCRIPTION:Wir sind dabei am World Cleanup Day - 16. September 2023. Treff
  vor Ort an der Kirschenwiese um 8 Uhr\, danach werden Gruppen eingeteilt 
 und mit einem Guide und Müllbeuteln los geschickt. Gummistiefel oder (sof
 ern vorhanden) Wathose mach Sinn!\n\n&nbsp\;\n\n#worldcleanupday #letsdoit
 germany #onlyoneworld\n\n&nbsp\;
ATTACH;FMTTYPE=image/jpeg:https://www.worldcleanupday.de/wp-content/upload
 s/2022/09/2023_WCD_Baden_Wuerttemberg_04.jpg
CATEGORIES:World Cleanup Day
LOCATION:Schozach\, Kirschenwiese 2\, 74232 Abstatt\, BW\, 74232\, Heilbron
 n\, Deutschland
GEO:49.069509;9.299959
X-APPLE-STRUCTURED-LOCATION;VALUE=URI;X-ADDRESS=Kirschenwiese 2\, 74232 Abs
 tatt\, BW\, 74232\, Heilbronn\, Deutschland;X-APPLE-RADIUS=100;X-TITLE=Sch
 ozach:geo:49.069509,9.299959
END:VEVENT
BEGIN:VTIMEZONE
TZID:Europe/Berlin
X-LIC-LOCATION:Europe/Berlin
BEGIN:DAYLIGHT
DTSTART:20230326T030000
TZOFFSETFROM:+0100
TZOFFSETTO:+0200
TZNAME:CEST
END:DAYLIGHT
END:VTIMEZONE
END:VCALENDAR