BEGIN:VCALENDAR
VERSION:2.0
PRODID:-//wp-events-plugin.com//7.2.3.1//EN
TZID:Europe/Berlin
X-WR-TIMEZONE:Europe/Berlin
BEGIN:VEVENT
UID:2643@worldcleanupday.de
DTSTART;TZID=Europe/Berlin:20220917T100000
DTEND;TZID=Europe/Berlin:20220917T120000
DTSTAMP:20220728T063224Z
URL:https://www.worldcleanupday.de/veranstaltungen/sauberer-ferienpark-rhe
 inland-pfalz/
SUMMARY:Sauberer Ferienpark (Rheinland-Pfalz)
DESCRIPTION:Mitarbeiter und General Manager von Landal Warsberg sammeln am 
 World Cleanup Day Müll im Park\, auf den Wiesen und Waldstücken. Der Mü
 ll wird getrennt und recycelt.\n\n&nbsp\;\n\n#worldcleanupday #letsdoitger
 many #deutschland #rheinlandpfalz
ATTACH;FMTTYPE=image/jpeg:https://www.worldcleanupday.de/wp-content/upload
 s/2022/06/2022_WCD_Bundesland_Rheinland_Pfalz.jpg
LOCATION:Landal Warsberg\, Ferienpark Warsberg \, Saarburg \, RLP\, 54439\,
  Saar\, Deutschland
GEO:49.61955;6.542423
X-APPLE-STRUCTURED-LOCATION;VALUE=URI;X-ADDRESS=Ferienpark Warsberg \, Saar
 burg \, RLP\, 54439\, Saar\, Deutschland;X-APPLE-RADIUS=100;X-TITLE=Landal
  Warsberg:geo:49.61955,6.542423
END:VEVENT
BEGIN:VTIMEZONE
TZID:Europe/Berlin
X-LIC-LOCATION:Europe/Berlin
BEGIN:DAYLIGHT
DTSTART:20220327T030000
TZOFFSETFROM:+0100
TZOFFSETTO:+0200
TZNAME:CEST
END:DAYLIGHT
END:VTIMEZONE
END:VCALENDAR