BEGIN:VCALENDAR
VERSION:2.0
PRODID:-//wp-events-plugin.com//7.2.3.1//EN
TZID:Europe/Berlin
X-WR-TIMEZONE:Europe/Berlin
BEGIN:VEVENT
UID:2949@worldcleanupday.de
DTSTART;TZID=Europe/Berlin;VALUE=DATE:20220916
DTEND;TZID=Europe/Berlin;VALUE=DATE:20220917
DTSTAMP:20220824T070333Z
URL:https://www.worldcleanupday.de/veranstaltungen/saubere-heimat-thuering
 en/
SUMMARY:saubere Heimat (Thüringen)
DESCRIPTION:Die Breitenbergschule Ruhla macht am World Cleanup Day mit.\n\n
 #worldcleanuday #letsdoitgermany #deutschland #thueringen
ATTACH;FMTTYPE=image/jpeg:https://www.worldcleanupday.de/wp-content/upload
 s/2022/06/WCD_m_S-Jugendliche-Muellgreifer.jpg
LOCATION:Ruhla\, Köhlergasse 6\,  Ruhla\, Thüringen\, 99842\, Wartburgkre
 is\, Deutschland
GEO:50.890745;10.369035
X-APPLE-STRUCTURED-LOCATION;VALUE=URI;X-ADDRESS=Köhlergasse 6\,  Ruhla\, T
 hüringen\, 99842\, Wartburgkreis\, Deutschland;X-APPLE-RADIUS=100;X-TITLE
 =Ruhla:geo:50.890745,10.369035
END:VEVENT
BEGIN:VTIMEZONE
TZID:Europe/Berlin
X-LIC-LOCATION:Europe/Berlin
BEGIN:DAYLIGHT
DTSTART:20220327T030000
TZOFFSETFROM:+0100
TZOFFSETTO:+0200
TZNAME:CEST
END:DAYLIGHT
END:VTIMEZONE
END:VCALENDAR