BEGIN:VCALENDAR
VERSION:2.0
PRODID:-//wp-events-plugin.com//7.2.3.1//EN
TZID:Europe/Berlin
X-WR-TIMEZONE:Europe/Berlin
BEGIN:VEVENT
UID:1422@worldcleanupday.de
DTSTART;TZID=Europe/Berlin;VALUE=DATE:20210918
DTEND;TZID=Europe/Berlin;VALUE=DATE:20210919
DTSTAMP:20210904T142213Z
URL:https://www.worldcleanupday.de/veranstaltungen/sammelaktion-26-in-roed
 ermark-zum-world-cleanup-day-hessen/
SUMMARY:Sammelaktion 26 in Rödermark zum World Cleanup Day (Hessen)
DESCRIPTION:Wir sammeln wieder zu unserer monatlich stattfindendenden Samme
 laktion\, um unsere schöne Stadt und Natur sauberer und lebenswerter zu m
 achen .
ATTACH;FMTTYPE=image/jpeg:https://www.worldcleanupday.de/wp-content/upload
 s/2021/08/68639745_2912354768793193_8758313815562518528_n.jpg
LOCATION:Rödermark\, zum Schwimmbad 2\, Rödermark\, Hessen\, 63322\, Krei
 s Offenbach\, Deutschland
GEO:49.976772;8.804448
X-APPLE-STRUCTURED-LOCATION;VALUE=URI;X-ADDRESS=zum Schwimmbad 2\, Röderma
 rk\, Hessen\, 63322\, Kreis Offenbach\, Deutschland;X-APPLE-RADIUS=100;X-T
 ITLE=Rödermark:geo:49.976772,8.804448
END:VEVENT
BEGIN:VTIMEZONE
TZID:Europe/Berlin
X-LIC-LOCATION:Europe/Berlin
BEGIN:DAYLIGHT
DTSTART:20210328T030000
TZOFFSETFROM:+0100
TZOFFSETTO:+0200
TZNAME:CEST
END:DAYLIGHT
END:VTIMEZONE
END:VCALENDAR