BEGIN:VCALENDAR
VERSION:2.0
PRODID:-//wp-events-plugin.com//7.2.3.1//EN
TZID:Europe/Berlin
X-WR-TIMEZONE:Europe/Berlin
BEGIN:VEVENT
UID:3557@worldcleanupday.de
DTSTART;TZID=Europe/Berlin:20220917T100000
DTEND;TZID=Europe/Berlin:20220917T130000
DTSTAMP:20220913T105809Z
URL:https://www.worldcleanupday.de/veranstaltungen/reinigungsspaziergang-d
 urch-den-johannesplatz-thueringen/
SUMMARY:Reinigungsspaziergang durch den Johannesplatz (Thüringen)
DESCRIPTION:Wir sind dabei am World Cleanup Day und räumen den Johannespla
 tz in Erfurt auf! Sei dabei!\n\n&nbsp\;\n\n#worldcleanupday\n#letsdoitgerm
 any #deutschland #thüringen
ATTACH;FMTTYPE=image/jpeg:https://www.worldcleanupday.de/wp-content/upload
 s/2022/08/2022_WCD_Bundesland_Thueringen_02-1.jpg
LOCATION:Erfurt-OT Johannesplatz\, Wendenstr. 22/ Markplatz \, 99086 Erfurt
 \, Thüringen \, 99086\, Deutschland
GEO:50.9943;11.030211
X-APPLE-STRUCTURED-LOCATION;VALUE=URI;X-ADDRESS=Wendenstr. 22/ Markplatz \,
  99086 Erfurt\, Thüringen \, 99086\, Deutschland;X-APPLE-RADIUS=100;X-TIT
 LE=Erfurt-OT Johannesplatz:geo:50.9943,11.030211
END:VEVENT
BEGIN:VTIMEZONE
TZID:Europe/Berlin
X-LIC-LOCATION:Europe/Berlin
BEGIN:DAYLIGHT
DTSTART:20220327T030000
TZOFFSETFROM:+0100
TZOFFSETTO:+0200
TZNAME:CEST
END:DAYLIGHT
END:VTIMEZONE
END:VCALENDAR