BEGIN:VCALENDAR
VERSION:2.0
PRODID:-//wp-events-plugin.com//7.2.3.1//EN
TZID:Europe/Berlin
X-WR-TIMEZONE:Europe/Berlin
BEGIN:VEVENT
UID:2555@worldcleanupday.de
DTSTART;TZID=Europe/Berlin:20220916T080000
DTEND;TZID=Europe/Berlin:20220916T160000
DTSTAMP:20220706T075634Z
URL:https://www.worldcleanupday.de/veranstaltungen/projekttag-leipzig-putz
 t-sich-und-world-cleanup-day-sachsen/
SUMMARY:Projekttag "Leipzig putzt sich" und "World Cleanup Day" (Sachsen)
DESCRIPTION:Unsere Heinrich-Mann-Schule ist eine kleine Grundschule im Stad
 tteil Meusdorf ( Interimsstandort Probstheida\, Franzosenallee 21) der Sta
 dt Leipzig. Die zweizügige Schule besuchen zur Zeit 180 Schüler. Die Hei
 nrich- Mann-Schule wurde 2002 als Umweltschule Europas ausgezeichnet. Sie 
 war im Jahr 2000 und 2006 ebenfalls Preisträger des Umweltwettbewerbes de
 r Schulen der Stadt Leipzig.\n\nAm 16.09.2022 veranstalten wir an unserer 
 Schule für alle Schulklassen einen Projekttag zum Thema "Leipzig putzt si
 ch" und "World Cleanup Day".\n\n&nbsp\;\n\n#worldcleanupday #letsdoitgerma
 ny #deutschland #sachsen
ATTACH;FMTTYPE=image/jpeg:https://www.worldcleanupday.de/wp-content/upload
 s/2022/06/WCD_m_S-Forscherin.jpg
LOCATION:Heinrich-Mann-Schule\, Franzosenallee 21\, Leipzig\, Sachsen\, 041
 07\, Deutschland
GEO:51.302099;12.436101
X-APPLE-STRUCTURED-LOCATION;VALUE=URI;X-ADDRESS=Franzosenallee 21\, Leipzig
 \, Sachsen\, 04107\, Deutschland;X-APPLE-RADIUS=100;X-TITLE=Heinrich-Mann-
 Schule:geo:51.302099,12.436101
END:VEVENT
BEGIN:VTIMEZONE
TZID:Europe/Berlin
X-LIC-LOCATION:Europe/Berlin
BEGIN:DAYLIGHT
DTSTART:20220327T030000
TZOFFSETFROM:+0100
TZOFFSETTO:+0200
TZNAME:CEST
END:DAYLIGHT
END:VTIMEZONE
END:VCALENDAR