BEGIN:VCALENDAR
VERSION:2.0
PRODID:-//wp-events-plugin.com//7.2.3.1//EN
TZID:Europe/Berlin
X-WR-TIMEZONE:Europe/Berlin
BEGIN:VEVENT
UID:2215@worldcleanupday.de
DTSTART;TZID=Europe/Berlin:20210918T140000
DTEND;TZID=Europe/Berlin:20210918T160000
DTSTAMP:20210923T153057Z
URL:https://www.worldcleanupday.de/veranstaltungen/plogging-lauf-glueck-mi
 t-umweltschutz-baden-wuerttemberg/
SUMMARY:Plogging Lauf Glück mit Umweltschutz (Baden-Württemberg)
DESCRIPTION:Im Rahmen der Nachhaltigkeitstage der Gemeinde Schömberg finde
 t diese Plogging Aktion statt. Laufen und Müll aufheben.
LOCATION:Sportplatz TSV Schömberg\, Schwarzwaldstr.\, Schömberg\, Baden-W
 ürttemberg\, 75328\, Deutschland
GEO:48.78505;8.649655
X-APPLE-STRUCTURED-LOCATION;VALUE=URI;X-ADDRESS=Schwarzwaldstr.\, Schömber
 g\, Baden-Württemberg\, 75328\, Deutschland;X-APPLE-RADIUS=100;X-TITLE=Sp
 ortplatz TSV Schömberg:geo:48.78505,8.649655
END:VEVENT
BEGIN:VTIMEZONE
TZID:Europe/Berlin
X-LIC-LOCATION:Europe/Berlin
BEGIN:DAYLIGHT
DTSTART:20210328T030000
TZOFFSETFROM:+0100
TZOFFSETTO:+0200
TZNAME:CEST
END:DAYLIGHT
END:VTIMEZONE
END:VCALENDAR