BEGIN:VCALENDAR
VERSION:2.0
PRODID:-//wp-events-plugin.com//7.2.3.1//EN
TZID:Europe/Berlin
X-WR-TIMEZONE:Europe/Berlin
BEGIN:VEVENT
UID:1816@worldcleanupday.de
DTSTART;TZID=Europe/Berlin:20210917T080000
DTEND;TZID=Europe/Berlin:20210917T090000
DTSTAMP:20210907T181939Z
URL:https://www.worldcleanupday.de/veranstaltungen/ostenberg-cleanup/
SUMMARY:Ostenberg Cleanup (Mecklenburg-Vorpommern)
DESCRIPTION:Wir nehmen am WCD 2021 teil \nund befreien unser Schulumfeld vo
 m Müll!!! \n&nbsp\;
ATTACH;FMTTYPE=image/jpeg:https://www.worldcleanupday.de/wp-content/upload
 s/2021/05/2021-Nordrhein-Westfalen-1024x1024-1.jpg
LOCATION:Ostenberg\, Ostenberg Schule\, Ostenberg\, Nordrhein Westfalen\, D
 eutschland
GEO:51.490054;7.428535
X-APPLE-STRUCTURED-LOCATION;VALUE=URI;X-ADDRESS=Ostenberg Schule\, Ostenber
 g\, Nordrhein Westfalen\, Deutschland;X-APPLE-RADIUS=100;X-TITLE=Ostenberg
 :geo:51.490054,7.428535
END:VEVENT
BEGIN:VTIMEZONE
TZID:Europe/Berlin
X-LIC-LOCATION:Europe/Berlin
BEGIN:DAYLIGHT
DTSTART:20210328T030000
TZOFFSETFROM:+0100
TZOFFSETTO:+0200
TZNAME:CEST
END:DAYLIGHT
END:VTIMEZONE
END:VCALENDAR