BEGIN:VCALENDAR
VERSION:2.0
PRODID:-//wp-events-plugin.com//7.2.3.1//EN
TZID:Europe/Berlin
X-WR-TIMEZONE:Europe/Berlin
BEGIN:VEVENT
UID:9318@worldcleanupday.de
DTSTART;TZID=Europe/Berlin:20250920T100000
DTEND;TZID=Europe/Berlin:20250920T130000
DTSTAMP:20250904T170623Z
URL:https://www.worldcleanupday.de/veranstaltungen/olbersleben-raeumt-auf-
 %f0%9f%92%aa%f0%9f%8f%bc-thueringen-2/
SUMMARY:Olbersleben räumt auf 💪🏼 (Thüringen)
DESCRIPTION:Die Welt räumt auf. Wir machen mit!\n\n&nbsp\;\n\n#worldcleanu
 pday2025
ATTACH;FMTTYPE=image/jpeg:https://www.worldcleanupday.de/wp-content/upload
 s/2024/11/2025_WCD_Thueringen_02.jpg
CATEGORIES:World Cleanup Day
LOCATION:Bürgerhaus Olbersleben\, Schänkplatz 201\, Olbersleben \, Thüri
 ngen \, 99828\, Deutschland
GEO:51.147087;11.339012
X-APPLE-STRUCTURED-LOCATION;VALUE=URI;X-ADDRESS=Schänkplatz 201\, Olbersle
 ben \, Thüringen \, 99828\, Deutschland;X-APPLE-RADIUS=100;X-TITLE=Bürge
 rhaus Olbersleben:geo:51.147087,11.339012
END:VEVENT
BEGIN:VTIMEZONE
TZID:Europe/Berlin
X-LIC-LOCATION:Europe/Berlin
BEGIN:DAYLIGHT
DTSTART:20250330T030000
TZOFFSETFROM:+0100
TZOFFSETTO:+0200
TZNAME:CEST
END:DAYLIGHT
END:VTIMEZONE
END:VCALENDAR