BEGIN:VCALENDAR
VERSION:2.0
PRODID:-//wp-events-plugin.com//7.2.3.1//EN
TZID:Europe/Berlin
X-WR-TIMEZONE:Europe/Berlin
BEGIN:VEVENT
UID:7565@worldcleanupday.de
DTSTART;TZID=Europe/Berlin:20240916T094500
DTEND;TZID=Europe/Berlin:20240916T111500
DTSTAMP:20240916T081356Z
URL:https://www.worldcleanupday.de/veranstaltungen/muellsammeln-ist-1-klas
 se-thueringen/
SUMMARY:Müllsammeln ist 1. Klasse! (Thüringen)
DESCRIPTION:Wir als Klasse 1 der Grundschule Wandersleben gehen im Rahmen d
 es Heimat- und Sachkundeunterrichtes und zum Abschluss unseres Themas "Wir
  werden Müllexperten" auf Mülljagd in unserem Schulort Wandersleben.
ATTACH;FMTTYPE=image/jpeg:https://www.worldcleanupday.de/wp-content/upload
 s/2023/12/2024_WCU_Klasse_015.jpg
CATEGORIES:Schul-Cleanup,World Cleanup Day
LOCATION:Wandersleben\, Schulstraße 6\, Wandersleben\, Thüringen\, 99869\
 , Drei Gleichen\, Deutschland
GEO:50.897427;10.848049
X-APPLE-STRUCTURED-LOCATION;VALUE=URI;X-ADDRESS=Schulstraße 6\, Wandersleb
 en\, Thüringen\, 99869\, Drei Gleichen\, Deutschland;X-APPLE-RADIUS=100;X
 -TITLE=Wandersleben:geo:50.897427,10.848049
END:VEVENT
BEGIN:VTIMEZONE
TZID:Europe/Berlin
X-LIC-LOCATION:Europe/Berlin
BEGIN:DAYLIGHT
DTSTART:20240331T030000
TZOFFSETFROM:+0100
TZOFFSETTO:+0200
TZNAME:CEST
END:DAYLIGHT
END:VTIMEZONE
END:VCALENDAR