BEGIN:VCALENDAR
VERSION:2.0
PRODID:-//wp-events-plugin.com//7.2.3.1//EN
TZID:Europe/Berlin
X-WR-TIMEZONE:Europe/Berlin
BEGIN:VEVENT
UID:3359@worldcleanupday.de
DTSTART;TZID=Europe/Berlin:20220917T143000
DTEND;TZID=Europe/Berlin:20220917T181500
DTSTAMP:20220908T095623Z
URL:https://www.worldcleanupday.de/veranstaltungen/muellsammel-aktion-zum-
 world-cleanup-day-bayern/
SUMMARY:Müllsammel-Aktion zum „World Cleanup Day“ (Bayern)
DESCRIPTION:Müllsammel-Aktion zum „World Cleanup Day“\n\n„Viele klei
 ne Leute an vielen kleinen Orten\, die viele kleine Schritte tun\, können
  das Gesicht der Welt verändern.“\n\nFrei nach diesem Motto laden versc
 hiedene Gruppen des Stiftslandes Jung und Alt ein\, von unterschiedlichen 
 Orten aus Müll zu sammeln.\n\nZielort ist die Bischofswieser Kirche.\n\nG
 esammelt wird am Samstag\, 17. September 2022:\n\n14.30 Uhr – Kirche Str
 ub – Verantwortliche: Ministranten Strub\n\n15.00 Uhr – Kirche Winkl 
 – Verantwortliche: Kindergottesdienstteam Winkl\n\n14.30 Uhr – Parkpla
 tz Aschauerweiher Bad – Verantwortliche: Kinderkirche Bischofswiesen\n\n
 16.00 Uhr – Bahnhof Bischofswiesen – Verantwortliche: Kinderkirche Bis
 chofswiesen\n\n17.00 Uhr – Andacht in der Pfarrkirche Herz Jesu\n\nIm An
 schluss sind alle zu einem gemütlichen Beisammensein mit Speis und Trank 
 eingeladen! (Ende ca. 18.15 Uhr)\n\nHandschuhe und Müllbeutel sind an den
  Treffpunkten erhältlich. Jeder darf aber gern seine eigenen (Garten-)Han
 dschuhe mitbringen!\n\n#worldcleanupday #letsdoitgermany #deutschland #bay
 ern
ATTACH;FMTTYPE=image/jpeg:https://www.worldcleanupday.de/wp-content/upload
 s/2022/06/2022_WCD_Bundesland_Bayern_03.jpg
LOCATION:Parkplatz Aschauerweiher Bad\, Aschauerweiherstr. 85\, Bischofswie
 sen\, Bayern\, 83483\, Deutschland
GEO:47.64365;12.985041
X-APPLE-STRUCTURED-LOCATION;VALUE=URI;X-ADDRESS=Aschauerweiherstr. 85\, Bis
 chofswiesen\, Bayern\, 83483\, Deutschland;X-APPLE-RADIUS=100;X-TITLE=Park
 platz Aschauerweiher Bad:geo:47.64365,12.985041
END:VEVENT
BEGIN:VTIMEZONE
TZID:Europe/Berlin
X-LIC-LOCATION:Europe/Berlin
BEGIN:DAYLIGHT
DTSTART:20220327T030000
TZOFFSETFROM:+0100
TZOFFSETTO:+0200
TZNAME:CEST
END:DAYLIGHT
END:VTIMEZONE
END:VCALENDAR