BEGIN:VCALENDAR
VERSION:2.0
PRODID:-//wp-events-plugin.com//7.2.3.1//EN
TZID:Europe/Berlin
X-WR-TIMEZONE:Europe/Berlin
BEGIN:VEVENT
UID:6997@worldcleanupday.de
DTSTART;TZID=Europe/Berlin:20240920T090000
DTEND;TZID=Europe/Berlin:20240920T150000
DTSTAMP:20240821T140302Z
URL:https://www.worldcleanupday.de/veranstaltungen/konstanz-muellsammelakt
 ion-bw/
SUMMARY:Konstanz Müllsammelaktion (BW)
DESCRIPTION:Seewerke Konstanz Müllsammelaktion\n\nWir sind das Team der Se
 ewerke Konstanz. Unsere WfbM-Betriebe bieten regionalen und internationale
 n Geschäftspartnern vielfältige Fertigung und Dienstleistungen. Wir sehe
 n uns auch als Teil des Sozialraums Konstanz. Wenn es Herbst wird\, sieht 
 man Rund um den Bodensee häufig die Hinterlassenschaften vieler sommerlic
 her Aktivitäten. Wir wollen unseren Teil dazu beitragen\, unsere Heimat s
 auber und attraktiv zu halten.\n\nAm World Clean Up Day werden wir wieder 
 den Bereich Hörnle-Konstanz zwischen Therme und Fähre von Müll und Unra
 t befreien. Im Rahmen unserer Möglichkeiten. Zwischendurch machen wir ein
 e gemeinsame Vesperpause\, in der wir einfach die Natur genießen.\n\nUnte
 rstützt werden wir wieder von den Technischen Betrieben Stadt Konstanz mi
 t dem notwendigen Equipment.\n\nAuch die BGK – Bädergesellschaft Konsta
 nz mbH findet unsere Aktionen toll und hat Support versprochen.\n\nGanz im
  Sinne der fair.nah.logisch. Initiative wollen wir so vor unserer eigenen 
 Haustüre Verantwortung tragen. https://www.fair-nah-logisch.de/fair-nah-l
 ogisch/\n\n&nbsp\;
ATTACH;FMTTYPE=image/jpeg:https://www.worldcleanupday.de/wp-content/upload
 s/2024/08/Muellsammelaktion-2023.jpg
CATEGORIES:World Cleanup Day
LOCATION:Hörnle Konstanz\, Eichhornstraße\, Konstanz\, BW\, 78467\, Deuts
 chland
GEO:47.666711;9.199894
X-APPLE-STRUCTURED-LOCATION;VALUE=URI;X-ADDRESS=Eichhornstraße\, Konstanz\
 , BW\, 78467\, Deutschland;X-APPLE-RADIUS=100;X-TITLE=Hörnle Konstanz:geo
 :47.666711,9.199894
END:VEVENT
BEGIN:VTIMEZONE
TZID:Europe/Berlin
X-LIC-LOCATION:Europe/Berlin
BEGIN:DAYLIGHT
DTSTART:20240331T030000
TZOFFSETFROM:+0100
TZOFFSETTO:+0200
TZNAME:CEST
END:DAYLIGHT
END:VTIMEZONE
END:VCALENDAR