BEGIN:VCALENDAR
VERSION:2.0
PRODID:-//wp-events-plugin.com//7.2.3.1//EN
TZID:Europe/Berlin
X-WR-TIMEZONE:Europe/Berlin
BEGIN:VEVENT
UID:7300@worldcleanupday.de
DTSTART;TZID=Europe/Berlin:20240921T100000
DTEND;TZID=Europe/Berlin:20240921T140000
DTSTAMP:20240906T130419Z
URL:https://www.worldcleanupday.de/veranstaltungen/konfi-kurs-cleanup-nrw/
SUMMARY:Konfi-Kurs CleanUp (NRW)
DESCRIPTION:Konfi-Kurs CleanUp (Teil der Konfirmandenarbeit)
ATTACH;FMTTYPE=image/jpeg:https://www.worldcleanupday.de/wp-content/upload
 s/2023/12/2024_WCD_NRW_02.jpg
CATEGORIES:World Cleanup Day
LOCATION:Friedenskirche\, Wesel\, Marktplatz Feldmark\, Wesel\, NRW\, 46483
 \, Deutschland
GEO:51.67608;6.609391
X-APPLE-STRUCTURED-LOCATION;VALUE=URI;X-ADDRESS=Marktplatz Feldmark\, Wesel
 \, NRW\, 46483\, Deutschland;X-APPLE-RADIUS=100;X-TITLE=Friedenskirche\, W
 esel:geo:51.67608,6.609391
END:VEVENT
BEGIN:VTIMEZONE
TZID:Europe/Berlin
X-LIC-LOCATION:Europe/Berlin
BEGIN:DAYLIGHT
DTSTART:20240331T030000
TZOFFSETFROM:+0100
TZOFFSETTO:+0200
TZNAME:CEST
END:DAYLIGHT
END:VTIMEZONE
END:VCALENDAR