BEGIN:VCALENDAR
VERSION:2.0
PRODID:-//wp-events-plugin.com//7.2.3.1//EN
TZID:Europe/Berlin
X-WR-TIMEZONE:Europe/Berlin
BEGIN:VEVENT
UID:5528@worldcleanupday.de
DTSTART;TZID=Europe/Berlin:20230916T110000
DTEND;TZID=Europe/Berlin:20230916T140000
DTSTAMP:20230915T162459Z
URL:https://www.worldcleanupday.de/veranstaltungen/koeln-action-now-clean-
 nrw/
SUMMARY:Köln Action Now (CLEAN) - (NRW)
DESCRIPTION:Canada Life Europe Action Now (CLEAN)\n\nSäuberung in der Nach
 barschaft im Grüngürtel Kreutzerstrasse / Ecke Venloer\n\n&nbsp\;\n\n#wo
 rldcleanupday #letsdoitgermany #köln #letsdoit
ATTACH;FMTTYPE=image/jpeg:https://www.worldcleanupday.de/wp-content/upload
 s/2022/09/2023_WCD_Nordrhein_Westfalen_01.jpg
CATEGORIES:World Cleanup Day
LOCATION:Köln\, Kreutzerstrasse\, Köln\, Nordrhein-Westfalen\, 50672\, De
 utschland
GEO:50.94392;6.928969
X-APPLE-STRUCTURED-LOCATION;VALUE=URI;X-ADDRESS=Kreutzerstrasse\, Köln\, N
 ordrhein-Westfalen\, 50672\, Deutschland;X-APPLE-RADIUS=100;X-TITLE=Köln:
 geo:50.94392,6.928969
END:VEVENT
BEGIN:VTIMEZONE
TZID:Europe/Berlin
X-LIC-LOCATION:Europe/Berlin
BEGIN:DAYLIGHT
DTSTART:20230326T030000
TZOFFSETFROM:+0100
TZOFFSETTO:+0200
TZNAME:CEST
END:DAYLIGHT
END:VTIMEZONE
END:VCALENDAR