BEGIN:VCALENDAR
VERSION:2.0
PRODID:-//wp-events-plugin.com//7.2.3.1//EN
TZID:Europe/Berlin
X-WR-TIMEZONE:Europe/Berlin
BEGIN:VEVENT
UID:8879@worldcleanupday.de
DTSTART;TZID=Europe/Berlin:20250920T130000
DTEND;TZID=Europe/Berlin:20250920T153000
DTSTAMP:20250813T173756Z
URL:https://www.worldcleanupday.de/veranstaltungen/kehrd-waerd-nuernberg-l
 angwasser-bayern-2/
SUMMARY:#Kehrd wärd - Nürnberg Langwasser (Bayern)
DESCRIPTION:Der Bürgerverein Langwasser ruft zusammen mit dem Haus der Hei
 mat und der Stadtteilpatin Hofmann Personal\nauch in diesem Jahr zur #Kehr
 dWärd-Aktion anlässlich des World Cleanup Day 2025 auf! 🌍🧹\n\nTref
 fpunkt : Haus der Heimat (Imbuschstraße 1\, Nürnberg)\n\nZur Einstimmung
  gibt es zum Beginn eine Blumenkonferenz der Theatergruppe “Expression
 ”.\nNach der Sammelaktion ist ein kleiner kostenloser Imbiss für alle T
 eilnehmer*innen vorgesehen. Und ein kleines Dankeschön-Geschenk gibt es a
 uch.\n\nDu möchtest mitmachen\, für die Planung von Material und Caterin
 g\nfreuen wir uns über eine Anmeldung an info@bvlangwasser.de.\n\nSei dab
 ei und lass uns ein bissl aufräumen in unserem schönen Stadtteil!
ATTACH;FMTTYPE=image/jpeg:https://www.worldcleanupday.de/wp-content/upload
 s/2025/08/Handzettel-WCD-2025-1.jpg
CATEGORIES:World Cleanup Day
LOCATION:Haus der Heimat\, Imbuschstr. 1\, Nürnberg\, Bayern\, 90473\, Nü
 rnberg\, Deutschland
GEO:49.398821;11.141905
X-APPLE-STRUCTURED-LOCATION;VALUE=URI;X-ADDRESS=Imbuschstr. 1\, Nürnberg\,
  Bayern\, 90473\, Nürnberg\, Deutschland;X-APPLE-RADIUS=100;X-TITLE=Haus 
 der Heimat:geo:49.398821,11.141905
END:VEVENT
BEGIN:VTIMEZONE
TZID:Europe/Berlin
X-LIC-LOCATION:Europe/Berlin
BEGIN:DAYLIGHT
DTSTART:20250330T030000
TZOFFSETFROM:+0100
TZOFFSETTO:+0200
TZNAME:CEST
END:DAYLIGHT
END:VTIMEZONE
END:VCALENDAR