BEGIN:VCALENDAR
VERSION:2.0
PRODID:-//wp-events-plugin.com//7.2.3.1//EN
TZID:Europe/Berlin
X-WR-TIMEZONE:Europe/Berlin
BEGIN:VEVENT
UID:1602@worldcleanupday.de
DTSTART;TZID=Europe/Berlin:20210918T140000
DTEND;TZID=Europe/Berlin:20210918T160000
DTSTAMP:20210904T142221Z
URL:https://www.worldcleanupday.de/veranstaltungen/kampf-den-zigarettenstu
 mmeln-am-world-cleanup-day-hamburg/
SUMMARY:Kampf den Zigarettenstummeln am World Cleanup Day - (Hamburg)
DESCRIPTION:Wir sind mit dabei beim World Cleanup Day 2021! Mach mit!
ATTACH;FMTTYPE=image/jpeg:https://www.worldcleanupday.de/wp-content/upload
 s/2021/05/2021-hamburg-1024x1024-1.jpg
LOCATION:Hafencity Hamburg\, Hongkongstraße 10\, Hamburg\, Hamburg\, 20097
 \, Deutschland
GEO:53.541905;10.001566
X-APPLE-STRUCTURED-LOCATION;VALUE=URI;X-ADDRESS=Hongkongstraße 10\, Hambur
 g\, Hamburg\, 20097\, Deutschland;X-APPLE-RADIUS=100;X-TITLE=Hafencity Ham
 burg:geo:53.541905,10.001566
END:VEVENT
BEGIN:VTIMEZONE
TZID:Europe/Berlin
X-LIC-LOCATION:Europe/Berlin
BEGIN:DAYLIGHT
DTSTART:20210328T030000
TZOFFSETFROM:+0100
TZOFFSETTO:+0200
TZNAME:CEST
END:DAYLIGHT
END:VTIMEZONE
END:VCALENDAR