BEGIN:VCALENDAR
VERSION:2.0
PRODID:-//wp-events-plugin.com//7.2.3.1//EN
TZID:Europe/Berlin
X-WR-TIMEZONE:Europe/Berlin
BEGIN:VEVENT
UID:10051@worldcleanupday.de
DTSTART;TZID=Europe/Berlin:20260919T130000
DTEND;TZID=Europe/Berlin:20260919T180000
DTSTAMP:20260422T101141Z
URL:https://www.worldcleanupday.de/veranstaltungen/jugend-raeumt-auf/
SUMMARY:Jugend räumt auf!
DESCRIPTION:Unter dem Motto: "Die Welt räumt auf. Deutschland macht mit.\n
 Gemeinsam für eine saubere\, gesunde und plastikmüllfreie Zukunft"\,\nhi
 lft die Umweltschutzorganisation und Trägerverein des World Cleanup Day i
 n Deutschland "Let’s Do It! Germany e.V." jedes Jahr einen World Cleanup
  Day zu inizierern.\nWir möchten auch in diesem Jahr wieder daran teilneh
 men und laden alle Kinder und Jugendlichen des Goldenen Grunds dazu ein\, 
 sich daran zu beteiligen.\nWir starten um 13:00 Uhr auf dem Marktplatz in 
 Bad Camberg.\nZum Abschluss gibt es ein kleines Fest mit Essen und Musik i
 m Haus der Jugend in Bad Camberg.
ATTACH;FMTTYPE=image/jpeg:https://www.worldcleanupday.de/wp-content/upload
 s/2026/04/World-Environment-Day-Instagram-Post1.jpg
CATEGORIES:World Cleanup Day
LOCATION:Marktplatz Bad Camberg\, Am Amthof 15\, Bad Camberg\, 65520\, Deut
 schland
GEO:50.298039;8.271286
X-APPLE-STRUCTURED-LOCATION;VALUE=URI;X-ADDRESS=Am Amthof 15\, Bad Camberg\
 , 65520\, Deutschland;X-APPLE-RADIUS=100;X-TITLE=Marktplatz Bad Camberg:ge
 o:50.298039,8.271286
END:VEVENT
BEGIN:VTIMEZONE
TZID:Europe/Berlin
X-LIC-LOCATION:Europe/Berlin
BEGIN:DAYLIGHT
DTSTART:20260329T030000
TZOFFSETFROM:+0100
TZOFFSETTO:+0200
TZNAME:CEST
END:DAYLIGHT
END:VTIMEZONE
END:VCALENDAR