BEGIN:VCALENDAR
VERSION:2.0
PRODID:-//wp-events-plugin.com//7.2.3.1//EN
TZID:Europe/Berlin
X-WR-TIMEZONE:Europe/Berlin
BEGIN:VEVENT
UID:4584@worldcleanupday.de
DTSTART;TZID=Europe/Berlin:20230916T100000
DTEND;TZID=Europe/Berlin:20230916T160000
DTSTAMP:20230724T120600Z
URL:https://www.worldcleanupday.de/veranstaltungen/jagowstrasse-putzen-cle
 anup-moabit-berlin/
SUMMARY:Jagowstraße putzen - Cleanup MOabit (Berlin)
DESCRIPTION:Für eine schönere Wohnstraße: die Jagowstraße ist\, wie so 
 viele Straßen in Berlin\, übersät mit Zigarettenkippen\, Plastik- und S
 perrmüll. Räumen wir mal ein bisschen auf. Ob wir die 10000er-Marke bei 
 Zigarettenkippen knacken?\n\n&nbsp\;\n\n#worldcleanupday #letsdoitgermany 
 #deutschland #berlin #letsdoit
ATTACH;FMTTYPE=image/jpeg:https://www.worldcleanupday.de/wp-content/upload
 s/2022/09/2023_WCD_Berlin_04.jpg
CATEGORIES:World Cleanup Day
LOCATION:Treffpunkt Jagowstraße 25\, Jagowstraße\, 10555 Berlin\, Berlin\
 , 10555\, Deutschland
GEO:52.521869;13.333872
X-APPLE-STRUCTURED-LOCATION;VALUE=URI;X-ADDRESS=Jagowstraße\, 10555 Berlin
 \, Berlin\, 10555\, Deutschland;X-APPLE-RADIUS=100;X-TITLE=Treffpunkt Jago
 wstraße 25:geo:52.521869,13.333872
END:VEVENT
BEGIN:VTIMEZONE
TZID:Europe/Berlin
X-LIC-LOCATION:Europe/Berlin
BEGIN:DAYLIGHT
DTSTART:20230326T030000
TZOFFSETFROM:+0100
TZOFFSETTO:+0200
TZNAME:CEST
END:DAYLIGHT
END:VTIMEZONE
END:VCALENDAR