BEGIN:VCALENDAR
VERSION:2.0
PRODID:-//wp-events-plugin.com//7.2.3.1//EN
TZID:Europe/Berlin
X-WR-TIMEZONE:Europe/Berlin
BEGIN:VEVENT
UID:7421@worldcleanupday.de
DTSTART;TZID=Europe/Berlin:20240921T093000
DTEND;TZID=Europe/Berlin:20240921T123000
DTSTAMP:20240911T084133Z
URL:https://www.worldcleanupday.de/veranstaltungen/isartal-rama-dama-bayer
 n/
SUMMARY:ISARTAL Rama dama (Bayern)
DESCRIPTION:Isartal-Rama dama\n\n„Die Welt räumt auf und der Landkreis G
 armisch-Partenkirchen macht mit“\n\nAktionswochen vom 20.09.2024 bis 06.
 10.2024\n\nDie kommunale Abfallwirtschaft und der Ranger mit der Naturschu
 tzwacht Isartal bitten die Bürgerinnen und Bürger\, vor allem die Ortsve
 reine und Gruppierungen\, Umweltinitiativen und Institutionen um Unterstü
 tzung. Wir rufen im Zuge des World Cleanup Days auf\, beim „Isartal-Rama
  dama“ am Samstag\, 21.09.2024 aktiv mitzuhelfen.\nGemeinsam wollen wir 
 das Gebiet entlang der oberen Isar zwischen Mittenwald und der Landesgrenz
 e bei Scharnitz/Tirol sauber halten! Eingeladen sind alle\, die mithelfen 
 möchten\, unsere Heimat von achtlos weggeworfenem Abfall zu säubern. Sie
  leisten damit einen wertvollen Beitrag für den Naturschutz und zur Besei
 tigung von Umweltverschmutzung. Im Anschluss wird den fleißigen Helferinn
 en und Helfern eine Brotzeit spendiert. Handschuhe und Müllsäcke werden 
 zur Verfügung gestellt.\n\nDas Landratsamt bittet Vereine und Gruppen sow
 ie Einzelpersonen\, die bei der Aktion mitmachen aus organisatorischen Gr
 ünden um eine kurze vorherige Anmeldung beim Landratsamt unter Telefon 08
 821/751 363 oder per E-Mail an abfallberater@LRA-GAP.de\n\nTreffpunkt: 09:
 30 Uhr  Mittenwald\, Parkplatz Riedboden ISARENA Sportpark\n\nweiter info
 rmieren\n#Isartalramadama\n\n#worldcleanupday
ATTACH;FMTTYPE=image/jpeg:https://www.worldcleanupday.de/wp-content/upload
 s/2024/09/ISARTAL_Ramadama20240921_klein.jpg
CATEGORIES:Kommunen-Cleanup,World Cleanup Day
LOCATION:Mittenwald Parkplatz Riedboden Isarena\, Riedboden 3\, 82481\, Bay
 ern\, 82481\, Landkreis Garmisch-Partenkirchen\, Deutschland
GEO:47.42693;11.25885
X-APPLE-STRUCTURED-LOCATION;VALUE=URI;X-ADDRESS=Riedboden 3\, 82481\, Bayer
 n\, 82481\, Landkreis Garmisch-Partenkirchen\, Deutschland;X-APPLE-RADIUS=
 100;X-TITLE=Mittenwald Parkplatz Riedboden Isarena:geo:47.42693,11.25885
END:VEVENT
BEGIN:VTIMEZONE
TZID:Europe/Berlin
X-LIC-LOCATION:Europe/Berlin
BEGIN:DAYLIGHT
DTSTART:20240331T030000
TZOFFSETFROM:+0100
TZOFFSETTO:+0200
TZNAME:CEST
END:DAYLIGHT
END:VTIMEZONE
END:VCALENDAR