BEGIN:VCALENDAR
VERSION:2.0
PRODID:-//wp-events-plugin.com//7.2.3.1//EN
TZID:Europe/Berlin
X-WR-TIMEZONE:Europe/Berlin
BEGIN:VEVENT
UID:2403@worldcleanupday.de
DTSTART;TZID=Europe/Berlin:20220916T073000
DTEND;TZID=Europe/Berlin:20220916T091500
DTSTAMP:20220621T081615Z
URL:https://www.worldcleanupday.de/veranstaltungen/hochwaldgymnasium-wader
 n-saarland/
SUMMARY:Hochwaldgymnasium Wadern (Saarland)
DESCRIPTION:Hochwaldgymnasium Wadern - Seminarfach Nachhaltigkeit\nDas Hoch
 waldgymnasium Wadern beteiligt sich mit dem Seminarfach Nachhaltigkeit am 
 World Cleanup Day 2022.\nDer World Cleanup Day macht Schule
ATTACH;FMTTYPE=image/jpeg:https://www.worldcleanupday.de/wp-content/upload
 s/2022/06/WCD_m_S-Kinder_Lehrer.jpg
LOCATION:Seminarfach Nachhaltigkeit\, Am Kaisergarten 1\,  Wadern\, 66687\,
  Deutschland
GEO:49.54612;6.90044
X-APPLE-STRUCTURED-LOCATION;VALUE=URI;X-ADDRESS=Am Kaisergarten 1\,  Wadern
 \, 66687\, Deutschland;X-APPLE-RADIUS=100;X-TITLE=Seminarfach Nachhaltigke
 it:geo:49.54612,6.90044
END:VEVENT
BEGIN:VTIMEZONE
TZID:Europe/Berlin
X-LIC-LOCATION:Europe/Berlin
BEGIN:DAYLIGHT
DTSTART:20220327T030000
TZOFFSETFROM:+0100
TZOFFSETTO:+0200
TZNAME:CEST
END:DAYLIGHT
END:VTIMEZONE
END:VCALENDAR