BEGIN:VCALENDAR
VERSION:2.0
PRODID:-//wp-events-plugin.com//7.2.3.1//EN
TZID:Europe/Berlin
X-WR-TIMEZONE:Europe/Berlin
BEGIN:VEVENT
UID:2342@worldcleanupday.de
DTSTART;TZID=Europe/Berlin:20220507T110000
DTEND;TZID=Europe/Berlin:20220507T140000
DTSTAMP:20220506T190044Z
URL:https://www.worldcleanupday.de/veranstaltungen/greatthanksday-ukrainia
 n-refugees-say-thank-you-to-konstanz-baden-wuerttemberg/
SUMMARY:#GreatThanksDay – Ukrainian Refugees say „Thank you“ to Konst
 anz (Baden-Württemberg)
DESCRIPTION:\nМи зустрічаємося об 11:00 біля  Bodensee
 forum Konstanz (https://maps.app.goo.gl/vcd63QuhGtvRRMaj9) на велик
 е прибирання!\n\n\nНаш маршрут 2\,6 км вздовж
  одної з найгарніших набережних міста Ко
 нстанц\, через парк Herosé\, далі підемо тро
 хи в місто до зупинки Zähringerplatz і повернем
 ося до променаду біля зупинки Sternenplatz.\n\n\n
  З нас: пакети для сміття\, рукавички\, все
  необхідне для прибирання\n\n\n З вас: гарн
 ий настрій\, взяти собі води і снеки\, якщ
 о є можливість\, то рукавички на випадок\,
  якщо комусь не вистачатиме\, та бажання 
 змінювати світ на краще\n\n\nЧекаємо на те
 бе \n\n\nПо можливості\, просимо зареєструв
 атися на гугл формі\, щоб ми знали прибли
 зну кількість учасників на завтрашньому
  прибиранні! Чекаю всіх: https://forms.gle/H8z2EmCSFwE
 Dnhmz7\n\n\n\nWir treffen uns um 11:00 beim Bodenseeforum Konstanz zum gro
 ßen Putzen!\nUnsere Route führt 2\,6 km entlang einer der schönsten Fla
 niermeilen der Stadt Konstanz\, durch den Park Herosé\, dann etwas stadte
 inwärts bis zur Haltestelle Zähringerplatz und zurück zur Flaniermeile 
 bei der Haltestelle Sternenplatz.\nBei uns: Müllsäcke\, Handschuhe\, all
 es was man zum Putzen braucht\nVon Ihnen: Gute Laune\, Wasser und Snacks b
 esorgen\, wenn möglich\, Handschuhe und der Wunsch\, die Welt zum Bessere
 n zu verändern\nWir warten auf dich\n\n#greatthanksday #letsdoitgermany #
 worldcleanupday #konstanz #standwithukraine\n\n
ATTACH;FMTTYPE=image/jpeg:https://www.worldcleanupday.de/wp-content/upload
 s/2022/05/cleaning-day-07.05-1.png
LOCATION:Bodenseeforum und entlang Herose Park\, dann zu Zähringerplatz\, 
 dann zum Promenade (Sternenplatz)\, Reichenaustraße 21\, Konstanz\, Baden
 -Württemberg\, 78467\, Deutschland
GEO:47.671328;9.16593
X-APPLE-STRUCTURED-LOCATION;VALUE=URI;X-ADDRESS=Reichenaustraße 21\, Konst
 anz\, Baden-Württemberg\, 78467\, Deutschland;X-APPLE-RADIUS=100;X-TITLE=
 Bodenseeforum und entlang Herose Park\, dann zu Zähringerplatz\, dann zum
  Promenade (Sternenplatz):geo:47.671328,9.16593
END:VEVENT
BEGIN:VTIMEZONE
TZID:Europe/Berlin
X-LIC-LOCATION:Europe/Berlin
BEGIN:DAYLIGHT
DTSTART:20220327T030000
TZOFFSETFROM:+0100
TZOFFSETTO:+0200
TZNAME:CEST
END:DAYLIGHT
END:VTIMEZONE
END:VCALENDAR