BEGIN:VCALENDAR
VERSION:2.0
PRODID:-//wp-events-plugin.com//7.2.3.1//EN
TZID:Europe/Berlin
X-WR-TIMEZONE:Europe/Berlin
BEGIN:VEVENT
UID:6009@worldcleanupday.de
DTSTART;TZID=Europe/Berlin:20240923T130000
DTEND;TZID=Europe/Berlin:20240923T160000
DTSTAMP:20240412T120240Z
URL:https://www.worldcleanupday.de/veranstaltungen/gemeinsamer-cleanup-in-
 der-wasserstadt-berlin/
SUMMARY:Gemeinsamer CleanUp in der Wasserstadt (Berlin)
DESCRIPTION:heimaten bei berlinovo ist ein Ort für ALLE - für Nachbar*inn
 en\, Neu- und Altberliner*innen\, Zugewanderte und Nichtzugewanderte. Alle
  sind herzlich Willkommen. heimaten bei berlinovo ist ein Projekt der geme
 innützigen Gesellschaft für interkulturelles Zusammenleben gGmbH. An die
 sem Tag wollen wir unsere Nachbarschaft zu einer gemeinsamen Aktion einlad
 en! Gerne möchten wir Sie zu einem CleanUp-Spaziergang in unserem Kiez ei
 nladen. Lassen Sie uns zusammen unsere Umgebung verschönern\, von Müll b
 efreien und uns als Nachbarschaft noch näher kennenlernen!\n\n&nbsp\;\n\n
 #worldcleanupday2024
ATTACH;FMTTYPE=image/jpeg:https://www.worldcleanupday.de/wp-content/upload
 s/2024/04/20230807_182721111.jpg
CATEGORIES:World Cleanup Day
LOCATION:heimaten bei berlinovo\, Rauchstr. 29/30\, Berlin\, Berlin\, 13587
 \, Deutschland
GEO:52.559854;13.220261
X-APPLE-STRUCTURED-LOCATION;VALUE=URI;X-ADDRESS=Rauchstr. 29/30\, Berlin\, 
 Berlin\, 13587\, Deutschland;X-APPLE-RADIUS=100;X-TITLE=heimaten bei berli
 novo:geo:52.559854,13.220261
END:VEVENT
BEGIN:VTIMEZONE
TZID:Europe/Berlin
X-LIC-LOCATION:Europe/Berlin
BEGIN:DAYLIGHT
DTSTART:20240331T030000
TZOFFSETFROM:+0100
TZOFFSETTO:+0200
TZNAME:CEST
END:DAYLIGHT
END:VTIMEZONE
END:VCALENDAR