BEGIN:VCALENDAR
VERSION:2.0
PRODID:-//wp-events-plugin.com//7.2.3.1//EN
TZID:Europe/Berlin
X-WR-TIMEZONE:Europe/Berlin
BEGIN:VEVENT
UID:7546@worldcleanupday.de
DTSTART;TZID=Europe/Berlin:20240920T173000
DTEND;TZID=Europe/Berlin:20240920T190000
DTSTAMP:20240914T132115Z
URL:https://www.worldcleanupday.de/veranstaltungen/gemeinsam-gutes-tun-fue
 r-unsere-heimat-bw/
SUMMARY:Gemeinsam Gutes tun für unsere Heimat (BW)
DESCRIPTION:Müllsammeln\nFreitag 20.09.2024\n\nÜber Instagram Name "renel
 andschulz" Aufruf an Follower eine Tüte einzusammeln und mir ein Foto dav
 on zu senden.\n\nwww.notimeforwaste.de
ATTACH;FMTTYPE=image/jpeg:https://www.worldcleanupday.de/wp-content/upload
 s/2024/09/Muellaktion-10.08.2024-10-Uhr-Treffpunkt-Rathaus-Marbach_2024091
 4_110911_0000.png
CATEGORIES:World Cleanup Day
LOCATION:Marbach am Neckar\, König-Wilhelm-Platz 9\, Marbach\, Baden-Würt
 temberg\, 71672 \, LK Ludwigsburg\, Deutschland
GEO:48.937937;9.258805
X-APPLE-STRUCTURED-LOCATION;VALUE=URI;X-ADDRESS=König-Wilhelm-Platz 9\, Ma
 rbach\, Baden-Württemberg\, 71672 \, LK Ludwigsburg\, Deutschland;X-APPLE
 -RADIUS=100;X-TITLE=Marbach am Neckar:geo:48.937937,9.258805
END:VEVENT
BEGIN:VTIMEZONE
TZID:Europe/Berlin
X-LIC-LOCATION:Europe/Berlin
BEGIN:DAYLIGHT
DTSTART:20240331T030000
TZOFFSETFROM:+0100
TZOFFSETTO:+0200
TZNAME:CEST
END:DAYLIGHT
END:VTIMEZONE
END:VCALENDAR