BEGIN:VCALENDAR
VERSION:2.0
PRODID:-//wp-events-plugin.com//7.2.3.1//EN
TZID:Europe/Berlin
X-WR-TIMEZONE:Europe/Berlin
BEGIN:VEVENT
UID:9809@worldcleanupday.de
DTSTART;TZID=Europe/Berlin:20250927T120000
DTEND;TZID=Europe/Berlin:20250927T143000
DTSTAMP:20250918T143420Z
URL:https://www.worldcleanupday.de/veranstaltungen/fca-cleanup-bayern/
SUMMARY:FCA-Cleanup (Bayern)
DESCRIPTION:\n\n\n\nFCA-Cleanup am 27. September - Gemeinsame Aufräumaktio
 n an der WWK ARENA\n\n\n\nAuch der FC Augsburg schließt sich mit der Küh
 l Entsorgung und Recycling Süd GmbH der Aktion an. Gemeinsam mit Fans und
  Mitgliedern möchten wir am Samstag\, 27. September 2025\, auf dem Gelän
 de und im Umfeld der WWK ARENA für regionalen Umweltschutz anpacken.\n\nI
 m Anschluss an die Aktion geht es gemeinsam in die Fankneipe an der Arena\
 , um das Auswärtsspiel unserer Profis in Heidenheim zu verfolgen. Alle mo
 tivierten Helferinnen und Helfer dürfen sich auf ein Dankeschön freuen.\
 n\nJetzt unter diesem Link anmelden und gemeinsam aktiv werden!\n\nAlle In
 fos auf einen Blick:\n\n 	Cleanup-Aktion am Samstag\, 27. September\n 	Tre
 ffpunkt um 12.00 Uhr vor der Fankneipe an der WWK ARENA (Bgm.-Ulrich-Str. 
 90\, 86199 Augsburg)\n 	Durchführung der Aufräumaktion von 12.30 bis 14.
 30 Uhr\n 	Im Anschluss: Ausklang in der FCA-Fankneipe mit dem Spiel 1. FC 
 Heidenheim vs. FC Augsburg\n 	Von Vorteil: Wetterfeste Kleidung\, Arbeitsh
 andschuhe\n\nBei Rückfragen oder für weitere Informationen kannst Du dic
 h an das Nachhaltigkeitsteam wenden (nachhaltigkeit@fcaugsburg.de).\n\n\n\
 n\n
ATTACH;FMTTYPE=image/jpeg:https://www.worldcleanupday.de/wp-content/upload
 s/2025/09/Cleanup_Gruppenbild.jpeg
CATEGORIES:Cleanup
LOCATION:WWK ARENA\, Bürgermeister-Ulrich-Str. 90\, Augsburg\, 86199\, Deu
 tschland
GEO:48.323085;10.885457
X-APPLE-STRUCTURED-LOCATION;VALUE=URI;X-ADDRESS=Bürgermeister-Ulrich-Str. 
 90\, Augsburg\, 86199\, Deutschland;X-APPLE-RADIUS=100;X-TITLE=WWK ARENA:g
 eo:48.323085,10.885457
END:VEVENT
BEGIN:VTIMEZONE
TZID:Europe/Berlin
X-LIC-LOCATION:Europe/Berlin
BEGIN:DAYLIGHT
DTSTART:20250330T030000
TZOFFSETFROM:+0100
TZOFFSETTO:+0200
TZNAME:CEST
END:DAYLIGHT
END:VTIMEZONE
END:VCALENDAR