BEGIN:VCALENDAR
VERSION:2.0
PRODID:-//wp-events-plugin.com//7.2.3.1//EN
TZID:Europe/Berlin
X-WR-TIMEZONE:Europe/Berlin
BEGIN:VEVENT
UID:6043@worldcleanupday.de
DTSTART;TZID=Europe/Berlin:20240920T083000
DTEND;TZID=Europe/Berlin:20240920T123000
DTSTAMP:20240423T112034Z
URL:https://www.worldcleanupday.de/veranstaltungen/emile-montessori-clean-
 up-day-bayern/
SUMMARY:EmiLe Montessori Clean up Day (Bayern)
DESCRIPTION:World Cleanup macht Schule. Wir sind dabei.\n\n&nbsp\;\n\n#worl
 dcleanupmachtschule #worldcleanupday2024
ATTACH;FMTTYPE=image/jpeg:https://www.worldcleanupday.de/wp-content/upload
 s/2023/12/2024_WCU_Schule_013.jpg
CATEGORIES:Schul-Cleanup,World Cleanup Day
LOCATION:EmiLe Neubiberg\, Arastr 2\, Neubiberg\, Bayern\, 85579\, Deutschl
 and
GEO:48.072129;11.66741
X-APPLE-STRUCTURED-LOCATION;VALUE=URI;X-ADDRESS=Arastr 2\, Neubiberg\, Baye
 rn\, 85579\, Deutschland;X-APPLE-RADIUS=100;X-TITLE=EmiLe Neubiberg:geo:48
 .072129,11.66741
END:VEVENT
BEGIN:VTIMEZONE
TZID:Europe/Berlin
X-LIC-LOCATION:Europe/Berlin
BEGIN:DAYLIGHT
DTSTART:20240331T030000
TZOFFSETFROM:+0100
TZOFFSETTO:+0200
TZNAME:CEST
END:DAYLIGHT
END:VTIMEZONE
END:VCALENDAR