BEGIN:VCALENDAR
VERSION:2.0
PRODID:-//wp-events-plugin.com//7.2.3.1//EN
TZID:Europe/Berlin
X-WR-TIMEZONE:Europe/Berlin
BEGIN:VEVENT
UID:7347@worldcleanupday.de
DTSTART;TZID=Europe/Berlin:20240921T093000
DTEND;TZID=Europe/Berlin:20240921T123000
DTSTAMP:20240909T114221Z
URL:https://www.worldcleanupday.de/veranstaltungen/eibsee-rama-dama-eibsee
 -cleanup-bayern/
SUMMARY:EIBSEE RAMA DAMA - Eibsee-Cleanup (Bayern)
DESCRIPTION:Eibsee-Rama dama (Eibsee-Cleanup)\n\n"Die Welt räumt auf und d
 er Landkreis Garmisch-Partenkirchen macht mit"\n\nAktionswochen vom 20.09.
 2024 bis 06.10.2024\n\nDie kommunale Abfallwirtschaft und die Rangerin mit
  der Naturschutzwacht Grainau / GAP bitten alle Bürgerinnen und Bürger\,
  vor allem die Ortsvereine und Gruppierungen\, Umweltinitiativen\,  Insti
 tutionen und Schulen um Unterstützung. Wir rufen im Zuge des World Cleanu
 p Days auf\, beim "Eibsee-Rama dama" am Samstag\, 21.09.2024 aktiv mitzuhe
 lfen.\n\nGemeinsam wollen wir das Gebiet rund um den Eibsee sauber halten!
  Eingeladen sind alle\, die mithelfen möchten\, unsere Heimat von achtlos
  weggeworfenem Abfall zu säubern. Sie leisten damit einen wertvollen Beit
 rag für den Naturschutz und zur Beseitigung von Umweltverschmutzung. Im A
 nschluss wird den fleißigen Helferinnen und Helfern eine Brotzeit spendie
 rt.\n\nHandschuhe und Müllsäcke werden  zur Verfügung gestellt. Batt
 erien und Akku‘s\, Elektrogeräte (u. a. E-Zigaretten/E-Vapes\, Elektrop
 umpen o. ähnl.) oder Flaschen werden getrennt gesammelt und können am Sa
 mmel-Treffpunkt abgegeben werden.\n\nDas Landratsamt bittet Vereine und Gr
 uppen sowie Einzelpersonen\, die bei der Aktion mitmachen aus organisatori
 schen Gründen  um eine kurze vorherige Anmeldung beim Landratsamt unter 
 Telefon 08821/751 363 oder per E-Mail an abfallberater@LRA-GAP.de\n\nweite
 r informieren\n\n#Eibseeramadama\n\n#worldcleanupday\n\n&nbsp\;
ATTACH;FMTTYPE=image/jpeg:https://www.worldcleanupday.de/wp-content/upload
 s/2024/09/Eibsee_Rama-dama_21092024_150px.jpg
CATEGORIES:Kommunen-Cleanup,World Cleanup Day
LOCATION:Eibsee\, Seeweg 3\, Grainau\, Bayern\, 82491\, Landkreis Garmisch-
 Partenkirchen\, Deutschland
GEO:47.456781;10.98943
X-APPLE-STRUCTURED-LOCATION;VALUE=URI;X-ADDRESS=Seeweg 3\, Grainau\, Bayern
 \, 82491\, Landkreis Garmisch-Partenkirchen\, Deutschland;X-APPLE-RADIUS=1
 00;X-TITLE=Eibsee:geo:47.456781,10.98943
END:VEVENT
BEGIN:VTIMEZONE
TZID:Europe/Berlin
X-LIC-LOCATION:Europe/Berlin
BEGIN:DAYLIGHT
DTSTART:20240331T030000
TZOFFSETFROM:+0100
TZOFFSETTO:+0200
TZNAME:CEST
END:DAYLIGHT
END:VTIMEZONE
END:VCALENDAR