BEGIN:VCALENDAR
VERSION:2.0
PRODID:-//wp-events-plugin.com//7.2.3.1//EN
TZID:Europe/Berlin
X-WR-TIMEZONE:Europe/Berlin
BEGIN:VEVENT
UID:5717@worldcleanupday.de
DTSTART;TZID=Europe/Berlin:20240920T083000
DTEND;TZID=Europe/Berlin:20240920T120000
DTSTAMP:20240308T122648Z
URL:https://www.worldcleanupday.de/veranstaltungen/dorfputzete-wiechs-bade
 n-wuerttemberg/
SUMMARY:Dorfputzete Wiechs (Baden-Württemberg)
DESCRIPTION:World Cleanup macht Schule. Wir sind dabei.\n\n&nbsp\;\n\n#worl
 dcleanupmachtschule #worldcleanupday
ATTACH;FMTTYPE=image/jpeg:https://www.worldcleanupday.de/wp-content/upload
 s/2023/12/2024_WCU_Schule_012.jpg
CATEGORIES:Schul-Cleanup,World Cleanup Day
LOCATION:Grundschule Wiechs\, Silberrankstr. 30\, Schopfheim\, Baden-Württ
 emberg\, 79650\, Deutschland
GEO:47.63681;7.813865
X-APPLE-STRUCTURED-LOCATION;VALUE=URI;X-ADDRESS=Silberrankstr. 30\, Schopfh
 eim\, Baden-Württemberg\, 79650\, Deutschland;X-APPLE-RADIUS=100;X-TITLE=
 Grundschule Wiechs:geo:47.63681,7.813865
END:VEVENT
BEGIN:VTIMEZONE
TZID:Europe/Berlin
X-LIC-LOCATION:Europe/Berlin
BEGIN:DAYLIGHT
DTSTART:20240331T030000
TZOFFSETFROM:+0100
TZOFFSETTO:+0200
TZNAME:CEST
END:DAYLIGHT
END:VTIMEZONE
END:VCALENDAR