BEGIN:VCALENDAR
VERSION:2.0
PRODID:-//wp-events-plugin.com//7.2.3.1//EN
TZID:Europe/Berlin
X-WR-TIMEZONE:Europe/Berlin
BEGIN:VEVENT
UID:7462@worldcleanupday.de
DTSTART;TZID=Europe/Berlin:20240920T153000
DTEND;TZID=Europe/Berlin:20240920T173000
DTSTAMP:20240912T083830Z
URL:https://www.worldcleanupday.de/veranstaltungen/die-welt-raeumt-auf-ste
 ndal-macht-mit-sachsen-anhalt/
SUMMARY:Die Welt räumt auf. Stendal macht mit. (Sachsen-Anhalt)
DESCRIPTION:World Cleanup Day\n\nam 20.09.2024\, 15:30 Uhr\, Stadtsee Stend
 al\, Treffpunkt: Tierpark\n\nIn Kooperation mit dem ZÖNU\, MY Unverpackt\
 , der Hansestadt Stendal\, der Freiwilligen Agentur Altmark e.V. und viele
  mehr.\n\nSeid dabei und bringt Handschuhe\, Eimer und eventuell Greifer m
 it.\n\nWir wollen Kippenstummel und anderen Müll sammeln. Das Ergebnis pr
 äsentieren wir auf dem AltmarkLiebe Festival.
ATTACH;FMTTYPE=image/jpeg:https://www.worldcleanupday.de/wp-content/upload
 s/2024/09/IMG_5017.jpeg
CATEGORIES:World Cleanup Day
LOCATION:Stendal Stadtsee\, Stadtsee\, Stendal\, Deutschland \, 39576\, Sac
 hsen-Anhalt \, Deutschland
GEO:52.597809;11.843421
X-APPLE-STRUCTURED-LOCATION;VALUE=URI;X-ADDRESS=Stadtsee\, Stendal\, Deutsc
 hland \, 39576\, Sachsen-Anhalt \, Deutschland;X-APPLE-RADIUS=100;X-TITLE=
 Stendal Stadtsee:geo:52.597809,11.843421
END:VEVENT
BEGIN:VTIMEZONE
TZID:Europe/Berlin
X-LIC-LOCATION:Europe/Berlin
BEGIN:DAYLIGHT
DTSTART:20240331T030000
TZOFFSETFROM:+0100
TZOFFSETTO:+0200
TZNAME:CEST
END:DAYLIGHT
END:VTIMEZONE
END:VCALENDAR