BEGIN:VCALENDAR
VERSION:2.0
PRODID:-//wp-events-plugin.com//7.2.3.1//EN
TZID:Europe/Berlin
X-WR-TIMEZONE:Europe/Berlin
BEGIN:VEVENT
UID:2815@worldcleanupday.de
DTSTART;TZID=Europe/Berlin:20220917T090000
DTEND;TZID=Europe/Berlin:20220917T120000
DTSTAMP:20220815T111049Z
URL:https://www.worldcleanupday.de/veranstaltungen/die-naturengel-heusenst
 amm-hessen/
SUMMARY:Die Naturengel Heusenstamm (Hessen)
DESCRIPTION:Die Naturengel Heusenstamm sind eine Gemeinschaft von ehrenamtl
 ich tätigen Bürger*Innen aus Heusenstamm und Umgebung unter der Schirmhe
 rrschaft des Heimat-und Geschichtsvereins Heusenstamm.\nAls im Herbst 2018
  der World Cleanup Day das erste Mal stattfand\, haben sich vier Freunde i
 n Heusenstamm zusammen getan und wollten dabei sein. Daraus entstand eine 
 eigene Bürgerinitiative\, unter deren Namen „Die Naturengel" sich etwa 
 25 bis 30 Ehrenamtliche einmal im Monat treffen\, um die Natur vom wilden 
 Müll befreien. \nDer World Cleanup Day ist damit auch der Geburtstag von 
 den Naturengel\, aber das ist nicht der Hauptgrund\, warum wir alljährlic
 h gerne dabei sind.\nAm 17. September sind wir natürlich auch dabei und w
 ir möchten viele Mitmenschen aktivieren und ermutigen \, mitzumachen!\nDe
 nn jeder kann etwas tun\, um die Umwelt und Natur zu schützen! Und jeder 
 noch so kleine Schritt hilft\, denn Umwelt- und Naturschutz ist schließli
 ch auch Menschenschutz! \n#worldcleanupday #letsdoitgermany #deutschland 
 #hessen\n
ATTACH;FMTTYPE=image/jpeg:https://www.worldcleanupday.de/wp-content/upload
 s/2022/08/crew.jpg
LOCATION:Heusenstamm Am Bannturm\, Schlossstrasse\, Heusenstamm\, Hessen\, 
 63150\, Deutschland
GEO:50.063068;8.8056
X-APPLE-STRUCTURED-LOCATION;VALUE=URI;X-ADDRESS=Schlossstrasse\, Heusenstam
 m\, Hessen\, 63150\, Deutschland;X-APPLE-RADIUS=100;X-TITLE=Heusenstamm Am
  Bannturm:geo:50.063068,8.8056
END:VEVENT
BEGIN:VTIMEZONE
TZID:Europe/Berlin
X-LIC-LOCATION:Europe/Berlin
BEGIN:DAYLIGHT
DTSTART:20220327T030000
TZOFFSETFROM:+0100
TZOFFSETTO:+0200
TZNAME:CEST
END:DAYLIGHT
END:VTIMEZONE
END:VCALENDAR