BEGIN:VCALENDAR
VERSION:2.0
PRODID:-//wp-events-plugin.com//7.2.3.1//EN
TZID:Europe/Berlin
X-WR-TIMEZONE:Europe/Berlin
BEGIN:VEVENT
UID:6097@worldcleanupday.de
DTSTART;TZID=Europe/Berlin:20240920T000000
DTEND;TZID=Europe/Berlin:20240920T000000
DTSTAMP:20240516T182109Z
URL:https://www.worldcleanupday.de/veranstaltungen/die-mlrs-raeumt-auf-bad
 en-wuerttemberg/
SUMMARY:Die MLRS räumt auf (Baden-Württemberg)
DESCRIPTION:Wir werden mit Klassen (noch unklar wie viele Klassen) eine Dop
 pelstunde lang von der Schule sternförmig ausströmen und das Gebiet von 
 Müll befreien.\n\nWorld Cleanup macht Schule. Wir sind dabei.\n\n&nbsp\;\
 n\n#worldcleanupmachtschule
ATTACH;FMTTYPE=image/jpeg:https://www.worldcleanupday.de/wp-content/upload
 s/2023/12/2024_WCU_Schule_025.jpg
CATEGORIES:Schul-Cleanup,World Cleanup Day
LOCATION:MLRS Besigheim\, Auf dem Kies 29\, Besigheim\, Baden-Württemberg\
 , 74354\, Deutschland
GEO:48.999246;9.148146
X-APPLE-STRUCTURED-LOCATION;VALUE=URI;X-ADDRESS=Auf dem Kies 29\, Besigheim
 \, Baden-Württemberg\, 74354\, Deutschland;X-APPLE-RADIUS=100;X-TITLE=MLR
 S Besigheim:geo:48.999246,9.148146
END:VEVENT
BEGIN:VTIMEZONE
TZID:Europe/Berlin
X-LIC-LOCATION:Europe/Berlin
BEGIN:DAYLIGHT
DTSTART:20240331T030000
TZOFFSETFROM:+0100
TZOFFSETTO:+0200
TZNAME:CEST
END:DAYLIGHT
END:VTIMEZONE
END:VCALENDAR