BEGIN:VCALENDAR
VERSION:2.0
PRODID:-//wp-events-plugin.com//7.2.3.1//EN
TZID:Europe/Berlin
X-WR-TIMEZONE:Europe/Berlin
BEGIN:VEVENT
UID:2395@worldcleanupday.de
DTSTART;TZID=Europe/Berlin:20220916T100000
DTEND;TZID=Europe/Berlin:20220916T113000
DTSTAMP:20220609T224959Z
URL:https://www.worldcleanupday.de/veranstaltungen/die-grundschule-pantrin
 gs-hof-raeumt-auf-nordrhein-westfalen/
SUMMARY:Die Grundschule Pantrings Hof räumt auf! (Nordrhein-Westfalen)
DESCRIPTION:WIR PACKEN WIEDER AN!\n\nGetreu unserem Leitmotiv "Nachhaltigke
 it und Umweltbewusstsein" werden wir auch dieses Jahr wieder tätig.\n\nZw
 ischen 10.00 Uhr und 11.30 Uhr reinigen wir im Rahmen des World Cleanup Da
 y unser Schulumfeld mit vielen fleißigen Kindern und LehrerInnen.\n\nWir 
 freuen uns auf einen gelungenen Tag!\n\n&nbsp\;\n\n#worldcleanupday #letsd
 oitgermany #deutschland #nordrheinwestfalen
ATTACH;FMTTYPE=image/jpeg:https://www.worldcleanupday.de/wp-content/upload
 s/2022/06/Schullogog-19.png
LOCATION:Grundschule Pantrings Hof Herne\, Eberhard-Wildermuth-Straße 43\,
  Herne\, NRW\, 44628\, Ruhrgebiet\, Deutschland
GEO:51.568823;7.23524
X-APPLE-STRUCTURED-LOCATION;VALUE=URI;X-ADDRESS=Eberhard-Wildermuth-Straße
  43\, Herne\, NRW\, 44628\, Ruhrgebiet\, Deutschland;X-APPLE-RADIUS=100;X-
 TITLE=Grundschule Pantrings Hof Herne:geo:51.568823,7.23524
END:VEVENT
BEGIN:VTIMEZONE
TZID:Europe/Berlin
X-LIC-LOCATION:Europe/Berlin
BEGIN:DAYLIGHT
DTSTART:20220327T030000
TZOFFSETFROM:+0100
TZOFFSETTO:+0200
TZNAME:CEST
END:DAYLIGHT
END:VTIMEZONE
END:VCALENDAR