BEGIN:VCALENDAR
VERSION:2.0
PRODID:-//wp-events-plugin.com//7.2.3.1//EN
TZID:Europe/Berlin
X-WR-TIMEZONE:Europe/Berlin
BEGIN:VEVENT
UID:8556@worldcleanupday.de
DTSTART;TZID=Europe/Berlin:20250919T150000
DTEND;TZID=Europe/Berlin:20250919T180000
DTSTAMP:20250707T101740Z
URL:https://www.worldcleanupday.de/veranstaltungen/die-aufhuebscher-fuer-b
 runn-und-netzstall/
SUMMARY:Die Aufhübscher für Brunn und Netzstall
DESCRIPTION:World Cleanup Day 19.09.2025 -Mach mit!\n\nGemeinsam für eine 
 saubere und müllbefreite Heimat\,\n\ndas ist unser Motto zur jährlichen 
 Teilnahme am\n\nWorld Cleanup Day für Brunn &amp\; Netzstall\n\nwww.world
 cleanupday.de\n\nAm Freitag\, den 19. September 2025\, findet unser lokale
 r World Cleanup Day für Brunn &amp\; Netzstall statt. Wir wollen damit Te
 il der größten Bürgerbewegung der Welt\, zur Beseitigung von Umweltvers
 chmutzung und Plastikmüll sein. Dieser Tag ist ein globales Zeichen der E
 inheit und des Engagements für eine saubere Umwelt.\n\nJeder einzelne Bei
 trag zählt\, und gemeinsam können wir einen nachhaltigen Unterschied mac
 hen und die Zukunft unserer Heimat und unseres Planeten gestalten und für
  kommende Generationen bewahren.\n\nMacht mit!\n\nIn mehr als 190 Ländern
  werden weltweit Millionen Menschen im September Straßen\, Parks\, Strän
 de\, Wälder\, Flüsse\, Flussufer und Meere von achtlos weggeworfenem Abf
 all und Plastikmüll säubern.\n\n&nbsp\;\n\nAuch in unserem schönen Brun
 n &amp\; Netzstall finden wir leider jedes Jahr Plastik\, Müll oder Zigar
 ettenkippen\, die achtlos weggeschmissen wurde. Wir leben gerne in unserem
  schönen Stadtteil und möchten unser ehrenamtliches Engagement für unse
 re Umwelt bewusst miteinander einsetzen.\n\n&nbsp\;\n\nGemeinsam für eine
  saubere\, gesunde und plastikmüllfreie Zukunft. Ein kleiner Beitrag\, de
 r große Wirkung zeigt\, anschließend mit gemütlichem Beisammensein.\n\n
 &nbsp\;\n\nWann:             Freitag\, 19.09.2025\n\nUhrzeit: 
           15.00 Uhr – 18.00 Uhr\n\nTreffpunkt:     Spielplat
 z Brunn\n\nMitzubringen: Handschuhe\, Müllzange\n\n&nbsp\;\n\nIm Anschlus
 s laden wir alle kleinen- und großen Helfer zu einer leckeren Portion McC
 ain Pommes ein! Es gelten die gelernten Hygiene Regeln\, damit wir alle ge
 sund bleiben.\n\n&nbsp\;\n\nBitte meldet Euch an\, damit wir besser planen
  können. Anmeldeschluss ist der 15.09.2025\n\n&nbsp\;\n\nLiebe Grüße\,\
 n\n„Die Aufhübscher für Brunn und Netzstall“\n\n&nbsp\;\n\nRückfrag
 en gern an:\n\nPetra Dressel: mobil 0151 1651 1236 oder Petra Klassen: mob
 il 0170 238 1971
ATTACH;FMTTYPE=image/jpeg:https://www.worldcleanupday.de/wp-content/upload
 s/2025/07/Petra-Petra.jpg
CATEGORIES:World Cleanup Day
LOCATION:Spielplatz Eichenhain Brunn\, Gänseriedstr./Brunner Hauptstrasse\
 , 90475 Nürnberg\, Nürnberg\, Bayern\, 90475\, Franken\, Deutschland
GEO:49.433478;11.261949
X-APPLE-STRUCTURED-LOCATION;VALUE=URI;X-ADDRESS=Gänseriedstr./Brunner Haup
 tstrasse\, 90475 Nürnberg\, Nürnberg\, Bayern\, 90475\, Franken\, Deutsc
 hland;X-APPLE-RADIUS=100;X-TITLE=Spielplatz Eichenhain Brunn:geo:49.433478
 ,11.261949
END:VEVENT
BEGIN:VTIMEZONE
TZID:Europe/Berlin
X-LIC-LOCATION:Europe/Berlin
BEGIN:DAYLIGHT
DTSTART:20250330T030000
TZOFFSETFROM:+0100
TZOFFSETTO:+0200
TZNAME:CEST
END:DAYLIGHT
END:VTIMEZONE
END:VCALENDAR