BEGIN:VCALENDAR
VERSION:2.0
PRODID:-//wp-events-plugin.com//7.2.3.1//EN
TZID:Europe/Berlin
X-WR-TIMEZONE:Europe/Berlin
BEGIN:VEVENT
UID:7478@worldcleanupday.de
DTSTART;TZID=Europe/Berlin:20240914T154500
DTEND;TZID=Europe/Berlin:20240914T164500
DTSTAMP:20240912T165445Z
URL:https://www.worldcleanupday.de/veranstaltungen/deutsch-iranische-chris
 ten-e-v-verein-nrw/
SUMMARY:Deutsch-Iranische Christen e.V  Verein (NRW)
DESCRIPTION:Die Welt räumt auf. Paderborn macht mit.\n\n&nbsp\;\n\n#worldc
 leanupday2024
ATTACH;FMTTYPE=image/jpeg:https://www.worldcleanupday.de/wp-content/upload
 s/2023/12/2024_WCD_NRW_01.jpg
CATEGORIES:World Cleanup Day
LOCATION:Monte Scherbelino Boule Bahn\, Unnamed Road\, Paderborn\, westfahl
 en \, 33106\, Deutschland
GEO:51.710733;8.691365
X-APPLE-STRUCTURED-LOCATION;VALUE=URI;X-ADDRESS=Unnamed Road\, Paderborn\, 
 westfahlen \, 33106\, Deutschland;X-APPLE-RADIUS=100;X-TITLE=Monte Scherbe
 lino Boule Bahn:geo:51.710733,8.691365
END:VEVENT
BEGIN:VTIMEZONE
TZID:Europe/Berlin
X-LIC-LOCATION:Europe/Berlin
BEGIN:DAYLIGHT
DTSTART:20240331T030000
TZOFFSETFROM:+0100
TZOFFSETTO:+0200
TZNAME:CEST
END:DAYLIGHT
END:VTIMEZONE
END:VCALENDAR