BEGIN:VCALENDAR
VERSION:2.0
PRODID:-//wp-events-plugin.com//7.2.3.1//EN
TZID:Europe/Berlin
X-WR-TIMEZONE:Europe/Berlin
BEGIN:VEVENT
UID:8295@worldcleanupday.de
DTSTART;TZID=Europe/Berlin:20250920T090000
DTEND;TZID=Europe/Berlin:20250920T150000
DTSTAMP:20250508T080502Z
URL:https://www.worldcleanupday.de/veranstaltungen/der-heimat-und-kulturve
 rein-raeumt-auf-rlp/
SUMMARY:Der Heimat- und Kulturverein räumt auf! (RLP)
DESCRIPTION:Treffpunkt Baron von Holbach Platz
ATTACH;FMTTYPE=image/jpeg:https://www.worldcleanupday.de/wp-content/upload
 s/2024/11/2025_WCD_RLP_01.jpg
CATEGORIES:World Cleanup Day
LOCATION:Edesheim\, Ludwigstraße 1\, Edesheim\, Rheinland-Pfalz\, 67483\, 
 Deutschland
GEO:49.26039;8.130215
X-APPLE-STRUCTURED-LOCATION;VALUE=URI;X-ADDRESS=Ludwigstraße 1\, Edesheim\
 , Rheinland-Pfalz\, 67483\, Deutschland;X-APPLE-RADIUS=100;X-TITLE=Edeshei
 m:geo:49.26039,8.130215
END:VEVENT
BEGIN:VTIMEZONE
TZID:Europe/Berlin
X-LIC-LOCATION:Europe/Berlin
BEGIN:DAYLIGHT
DTSTART:20250330T030000
TZOFFSETFROM:+0100
TZOFFSETTO:+0200
TZNAME:CEST
END:DAYLIGHT
END:VTIMEZONE
END:VCALENDAR