BEGIN:VCALENDAR
VERSION:2.0
PRODID:-//wp-events-plugin.com//7.2.3.1//EN
TZID:Europe/Berlin
X-WR-TIMEZONE:Europe/Berlin
BEGIN:VEVENT
UID:7558@worldcleanupday.de
DTSTART;TZID=Europe/Berlin:20240920T144500
DTEND;TZID=Europe/Berlin:20240920T183000
DTSTAMP:20240916T184936Z
URL:https://www.worldcleanupday.de/veranstaltungen/der-heimat-und-kulturve
 rein-edesheim-raeumt-auf-rlp/
SUMMARY:Der Heimat- und Kulturverein Edesheim räumt auf. (RLP)
DESCRIPTION:Hallo\,\n\nwir als Heimat- und Kulturverein Edesheim e.V. pfleg
 en und erhalten den Gemarkungsrundweg um Edesheim\, inklusive der von uns 
 unterhaltenen Bänke und Blicklenker.\n\nIm Rahmen des World Cleanup Day i
 st es uns eine Freude den gesamten Weg zu reinigen und von Müll zu befrei
 en.\n\nWir freuen uns darauf.
ATTACH;FMTTYPE=image/jpeg:https://www.worldcleanupday.de/wp-content/upload
 s/2023/12/2024_WCD_RLP_01.jpg
CATEGORIES:World Cleanup Day
LOCATION:Edesheim\, Ludwigstraße 1\, Edesheim\, Rheinland-Pfalz\, 67483\, 
 Deutschland
GEO:49.26039;8.130215
X-APPLE-STRUCTURED-LOCATION;VALUE=URI;X-ADDRESS=Ludwigstraße 1\, Edesheim\
 , Rheinland-Pfalz\, 67483\, Deutschland;X-APPLE-RADIUS=100;X-TITLE=Edeshei
 m:geo:49.26039,8.130215
END:VEVENT
BEGIN:VTIMEZONE
TZID:Europe/Berlin
X-LIC-LOCATION:Europe/Berlin
BEGIN:DAYLIGHT
DTSTART:20240331T030000
TZOFFSETFROM:+0100
TZOFFSETTO:+0200
TZNAME:CEST
END:DAYLIGHT
END:VTIMEZONE
END:VCALENDAR